BEGIN:VCALENDAR
VERSION:2.0
PRODID:-//SF Tango With.Us - ECPv6.6.2//NONSGML v1.0//EN
CALSCALE:GREGORIAN
METHOD:PUBLISH
X-ORIGINAL-URL:https://sftangowith.us
X-WR-CALDESC:Events for SF Tango With.Us
REFRESH-INTERVAL;VALUE=DURATION:PT1H
X-Robots-Tag:noindex
X-PUBLISHED-TTL:PT1H
BEGIN:VTIMEZONE
TZID:America/Los_Angeles
BEGIN:DAYLIGHT
TZOFFSETFROM:-0800
TZOFFSETTO:-0700
TZNAME:PDT
DTSTART:20230312T100000
END:DAYLIGHT
BEGIN:STANDARD
TZOFFSETFROM:-0700
TZOFFSETTO:-0800
TZNAME:PST
DTSTART:20231105T090000
END:STANDARD
END:VTIMEZONE
BEGIN:VEVENT
DTSTART;TZID=America/Los_Angeles:20230514T140000
DTEND;TZID=America/Los_Angeles:20230514T183000
DTSTAMP:20260425T190129
CREATED:20230501T190837Z
LAST-MODIFIED:20230501T191555Z
UID:10009022-1684072800-1684089000@sftangowith.us
SUMMARY:Ariadna & Fernando Weekend Seminar
DESCRIPTION:Weekend Seminar by Ariadna & Fernando Part II (partner not required\, but recommended) \n\nComplete Tango Structure. From simple movements to creating space and understanding the role of the embrace in different structures. Giro as the base structure and possibilities it offers for growing your dance and mistakes that can prevent forming a solid base and building up on it.\n2-4pm\n\n4:30-6:30pm \nTickets for Workshops
URL:https://sftangowith.us/event/ariadna-fernando-weekend-seminar-2/
LOCATION:Russian Center of San Francisco\, 2460 Sutter St\, San Francisco\, CA\, United States
CATEGORIES:workshop
ATTACH;FMTTYPE=image/jpeg:https://sftangowith.us/wp-content/uploads/2022/11/Ariadna-Naveira-Fernando-Sanchez.jpg
GEO:37.7853848;-122.440907
X-APPLE-STRUCTURED-LOCATION;VALUE=URI;X-ADDRESS=Russian Center of San Francisco 2460 Sutter St San Francisco CA United States;X-APPLE-RADIUS=500;X-TITLE=2460 Sutter St:geo:-122.440907,37.7853848
END:VEVENT
END:VCALENDAR