BEGIN:VCALENDAR
VERSION:2.0
PRODID:-//SF Tango With.Us - ECPv6.6.2//NONSGML v1.0//EN
CALSCALE:GREGORIAN
METHOD:PUBLISH
X-WR-CALNAME:SF Tango With.Us
X-ORIGINAL-URL:https://sftangowith.us
X-WR-CALDESC:Events for SF Tango With.Us
REFRESH-INTERVAL;VALUE=DURATION:PT1H
X-Robots-Tag:noindex
X-PUBLISHED-TTL:PT1H
BEGIN:VTIMEZONE
TZID:America/Los_Angeles
BEGIN:DAYLIGHT
TZOFFSETFROM:-0800
TZOFFSETTO:-0700
TZNAME:PDT
DTSTART:20240310T100000
END:DAYLIGHT
BEGIN:STANDARD
TZOFFSETFROM:-0700
TZOFFSETTO:-0800
TZNAME:PST
DTSTART:20241103T090000
END:STANDARD
END:VTIMEZONE
BEGIN:VEVENT
DTSTART;TZID=America/Los_Angeles:20240810T140000
DTEND;TZID=America/Los_Angeles:20240810T183000
DTSTAMP:20260420T214440
CREATED:20240501T234918Z
LAST-MODIFIED:20240806T013030Z
UID:10013358-1723298400-1723314600@sftangowith.us
SUMMARY:Ariadna Naveira & Fernando Sanchez Workshops in San Francisco
DESCRIPTION:Friday\, AUGUST 9Venue: La Pista Tango School3450 3rd St #5HSan Francisco\, CA 941246-7:30pm – Possibilities from forward and backward crosses8-9:30pm – Vals – the secrets of Ariadna & Fernando \n\nSaturday\, AUGUST 10Venue: Russian Center of San Francisco2460 Sutter StSan Francisco\, CA 94115Progressive Weekend Seminar by Ariadna & Fernando Part I (partner not required\, but recommended)Putting Technique to the Music2-6:30pm\nMilonga with exclusive performance by Ariadna & Fernando – Russian Center of SF (not included with classes) 9pm – 1:30 am (performance around 11:30pm) @Vecher Tango\n\nSunday\, AUGUST 11Venue: La Pista Tango School3450 3rd St #5HSan Francisco\, CA 94124Weekend Seminar by Ariadna & Fernando Part II1-4:30pm\n\nPRICING:The entire package 3 days (all classes Fri\, Sat\, Sun) $299 per personWeekend Seminar (Saturday & Sunday) $245 per personA la carte lessons Fri – $49 per lesson per person\nPlease email tangoelement@nullgmail.com with questions or call Davood Yazdani @ (650)441-4870
URL:https://sftangowith.us/event/ariadna-naveira-fernando-sanchez-in-san-francisco-2/2024-08-10/
LOCATION:CA
CATEGORIES:workshop
ATTACH;FMTTYPE=image/jpeg:https://sftangowith.us/wp-content/uploads/2024/05/Ariadna-Naveira-Fernando-Sanchez.jpg
END:VEVENT
BEGIN:VEVENT
DTSTART;TZID=America/Los_Angeles:20240810T210000
DTEND;TZID=America/Los_Angeles:20240811T013000
DTSTAMP:20260420T214440
CREATED:20240731T194235Z
LAST-MODIFIED:20240731T194235Z
UID:10013338-1723323600-1723339800@sftangowith.us
SUMMARY:Vecher Tango w/ Ariadna Naveira & Fernando Sanchez (DJ Kostas)
DESCRIPTION:Join us tonight at the Vecher Tango milonga\, starring that magnificent couple\, Ariadna Naveira y Fernando Sanchez and DJ Kostas\, all in the majestic Grand Ballroom at the Russian Center of San Francisco. Be mesmerized by Ariadna and Fernando’s special performance\, then dance the night away to DJ Kostas’ selection of Classic Argentine Tango. Enjoy an awesome sound system\, a silky smooth floor\, and an Art Deco ambiance in a great space for dancing. Please note\, no outside alcohol is allowed. The bar opens at 9 PM. Small table reservations are available for parties of 2-3\, and large table reservations for 4-8. \n9:00 – 1:30a Milonga with DJ Kostas\n11:30 Gala Performance by Ariadna Naveira y Fernando Sanchez \n$30 Milonga Featuring a Mesmerizing Performance by Ariadna Naveira & Fernando Sanchez\n$10 after the Memorable Performance \nvechertango@nullgmail.com
URL:https://sftangowith.us/event/vecher-tango-24-2-9/
LOCATION:Russian Center of San Francisco\, 2460 Sutter St\, San Francisco\, CA\, United States
CATEGORIES:class,milonga
ATTACH;FMTTYPE=image/jpeg:https://sftangowith.us/wp-content/uploads/2024/05/Ariadna-Naveira-Fernando-Sanchez.jpg
GEO:37.7853848;-122.440907
X-APPLE-STRUCTURED-LOCATION;VALUE=URI;X-ADDRESS=Russian Center of San Francisco 2460 Sutter St San Francisco CA United States;X-APPLE-RADIUS=500;X-TITLE=2460 Sutter St:geo:-122.440907,37.7853848
END:VEVENT
END:VCALENDAR