BEGIN:VCALENDAR
VERSION:2.0
PRODID:-//SF Tango With.Us - ECPv6.6.2//NONSGML v1.0//EN
CALSCALE:GREGORIAN
METHOD:PUBLISH
X-ORIGINAL-URL:https://sftangowith.us
X-WR-CALDESC:Events for SF Tango With.Us
REFRESH-INTERVAL;VALUE=DURATION:PT1H
X-Robots-Tag:noindex
X-PUBLISHED-TTL:PT1H
BEGIN:VTIMEZONE
TZID:America/Los_Angeles
BEGIN:DAYLIGHT
TZOFFSETFROM:-0800
TZOFFSETTO:-0700
TZNAME:PDT
DTSTART:20240310T100000
END:DAYLIGHT
BEGIN:STANDARD
TZOFFSETFROM:-0700
TZOFFSETTO:-0800
TZNAME:PST
DTSTART:20241103T090000
END:STANDARD
END:VTIMEZONE
BEGIN:VEVENT
DTSTART;TZID=America/Los_Angeles:20240811T130000
DTEND;TZID=America/Los_Angeles:20240811T163000
DTSTAMP:20260420T214547
CREATED:20240501T234918Z
LAST-MODIFIED:20240806T013030Z
UID:10013359-1723381200-1723393800@sftangowith.us
SUMMARY:Ariadna Naveira & Fernando Sanchez Workshops in San Francisco
DESCRIPTION:Friday\, AUGUST 9Venue: La Pista Tango School3450 3rd St #5HSan Francisco\, CA 941246-7:30pm – Possibilities from forward and backward crosses8-9:30pm – Vals – the secrets of Ariadna & Fernando \n\nSaturday\, AUGUST 10Venue: Russian Center of San Francisco2460 Sutter StSan Francisco\, CA 94115Progressive Weekend Seminar by Ariadna & Fernando Part I (partner not required\, but recommended)Putting Technique to the Music2-6:30pm\nMilonga with exclusive performance by Ariadna & Fernando – Russian Center of SF (not included with classes) 9pm – 1:30 am (performance around 11:30pm) @Vecher Tango\n\nSunday\, AUGUST 11Venue: La Pista Tango School3450 3rd St #5HSan Francisco\, CA 94124Weekend Seminar by Ariadna & Fernando Part II1-4:30pm\n\nPRICING:The entire package 3 days (all classes Fri\, Sat\, Sun) $299 per personWeekend Seminar (Saturday & Sunday) $245 per personA la carte lessons Fri – $49 per lesson per person\nPlease email tangoelement@nullgmail.com with questions or call Davood Yazdani @ (650)441-4870
URL:https://sftangowith.us/event/ariadna-naveira-fernando-sanchez-in-san-francisco-2/2024-08-11/
LOCATION:CA
CATEGORIES:workshop
ATTACH;FMTTYPE=image/jpeg:https://sftangowith.us/wp-content/uploads/2024/05/Ariadna-Naveira-Fernando-Sanchez.jpg
END:VEVENT
END:VCALENDAR