BEGIN:VCALENDAR
VERSION:2.0
PRODID:-//SF Tango With.Us - ECPv6.6.2//NONSGML v1.0//EN
CALSCALE:GREGORIAN
METHOD:PUBLISH
X-WR-CALNAME:SF Tango With.Us
X-ORIGINAL-URL:https://sftangowith.us
X-WR-CALDESC:Events for SF Tango With.Us
REFRESH-INTERVAL;VALUE=DURATION:PT1H
X-Robots-Tag:noindex
X-PUBLISHED-TTL:PT1H
BEGIN:VTIMEZONE
TZID:America/Los_Angeles
BEGIN:DAYLIGHT
TZOFFSETFROM:-0800
TZOFFSETTO:-0700
TZNAME:PDT
DTSTART:20250309T100000
END:DAYLIGHT
BEGIN:STANDARD
TZOFFSETFROM:-0700
TZOFFSETTO:-0800
TZNAME:PST
DTSTART:20251102T090000
END:STANDARD
END:VTIMEZONE
BEGIN:VEVENT
DTSTART;TZID=America/Los_Angeles:20250214T190000
DTEND;TZID=America/Los_Angeles:20250215T003000
DTSTAMP:20260424T211035
CREATED:20250207T083100Z
LAST-MODIFIED:20250207T090302Z
UID:10015132-1739559600-1739579400@sftangowith.us
SUMMARY:Workshops w/ Carlita Dominguez & Jesus Taborda @ Dance Blvd
DESCRIPTION:Carlita Dominguez is back from Argentina with her new partner Jesus Taborda! They are here to teach and perform. Improve your skills and enjoy their performance! \n7:00 – 8:00 Workshop 1 : Effortless Elegance: Achieving Fluidity in Tango\n8:00 – 9:00 Workshop 2 : Creativity with rhythmic variations and playful elements.\n9:00 – 12:30a Milonga w/ DJ Don An \n$25 One Workshop+ Milonga\n$40 Two Workshops+ Milonga\n$15 Milonga Only
URL:https://sftangowith.us/event/workshops-w-carlita-dominguez-jesus-taborda-dance-blvd/
LOCATION:Dance Boulevard\, 1824 Hillsdale Ave.\, San Jose\, CA\, United States
CATEGORIES:milonga,performance,workshop
ATTACH;FMTTYPE=image/jpeg:https://sftangowith.us/wp-content/uploads/2025/02/Carlita-Dominguez-Jesus-Taborda.jpg
GEO:37.2620436;-121.9179649
X-APPLE-STRUCTURED-LOCATION;VALUE=URI;X-ADDRESS=Dance Boulevard 1824 Hillsdale Ave. San Jose CA United States;X-APPLE-RADIUS=500;X-TITLE=1824 Hillsdale Ave.:geo:-121.9179649,37.2620436
END:VEVENT
END:VCALENDAR