BEGIN:VCALENDAR
VERSION:2.0
PRODID:-//SF Tango With.Us - ECPv6.6.2//NONSGML v1.0//EN
CALSCALE:GREGORIAN
METHOD:PUBLISH
X-WR-CALNAME:SF Tango With.Us
X-ORIGINAL-URL:https://sftangowith.us
X-WR-CALDESC:Events for SF Tango With.Us
REFRESH-INTERVAL;VALUE=DURATION:PT1H
X-Robots-Tag:noindex
X-PUBLISHED-TTL:PT1H
BEGIN:VTIMEZONE
TZID:America/Los_Angeles
BEGIN:DAYLIGHT
TZOFFSETFROM:-0800
TZOFFSETTO:-0700
TZNAME:PDT
DTSTART:20250309T100000
END:DAYLIGHT
BEGIN:STANDARD
TZOFFSETFROM:-0700
TZOFFSETTO:-0800
TZNAME:PST
DTSTART:20251102T090000
END:STANDARD
END:VTIMEZONE
BEGIN:VEVENT
DTSTART;TZID=America/Los_Angeles:20250216T140000
DTEND;TZID=America/Los_Angeles:20250216T170000
DTSTAMP:20260425T043147
CREATED:20250207T084532Z
LAST-MODIFIED:20250207T090008Z
UID:10015134-1739714400-1739725200@sftangowith.us
SUMMARY:Carlita Dominguez & Jesus Taborda Workshops @ Dance Blvd
DESCRIPTION:Carlita Dominguez is back from Argentina with her new partner Jesus Taborda! They are here to teach and perform. Learn from some of the best!\nWorkshop 1:\nMastering Posture and Embrace: The Foundation of Tango Elegance”\n* Refine body alignment\, energy flow\, and embrace for a polished\, professional look on the dance floor.\nWorkshop 2:\nMastering Giros: Technique\, Precision\, and Flow”\n* Develop balance\, disassociation\, and elegance in your pivots and turns for both leaders and followers.\nWorkshop 3:\nThe Art of Stage Tango: Elegance and Expression”\n* Master dramatic movements\, powerful poses\, and stage presence for tango performances. (Int-adv) \n2:00 – 3:00 Workshop 1 : Mastering Posture and Embrace: The Foundation of Tango Elegance\n3:00 – 4:00 Workshop 2 : Mastering Giros: Technique\, Precision\, and Flow\n4:00 – 5:00 Workshop 3 : Stage Tango: Elegance and Expression \n$25 One Workshop\n$45 Two Workshops\n$65 Three Workshops
URL:https://sftangowith.us/event/carlita-dominguez-jesus-taborda-workshops-dance-blvd/
CATEGORIES:workshop
ATTACH;FMTTYPE=image/jpeg:https://sftangowith.us/wp-content/uploads/2025/02/Carlita-Dominguez-Jesus-Taborda.jpg
END:VEVENT
END:VCALENDAR