BEGIN:VCALENDAR
VERSION:2.0
PRODID:-//SF Tango With.Us - ECPv6.6.2//NONSGML v1.0//EN
CALSCALE:GREGORIAN
METHOD:PUBLISH
X-ORIGINAL-URL:https://sftangowith.us
X-WR-CALDESC:Events for SF Tango With.Us
REFRESH-INTERVAL;VALUE=DURATION:PT1H
X-Robots-Tag:noindex
X-PUBLISHED-TTL:PT1H
BEGIN:VTIMEZONE
TZID:America/Los_Angeles
BEGIN:DAYLIGHT
TZOFFSETFROM:-0800
TZOFFSETTO:-0700
TZNAME:PDT
DTSTART:20250309T100000
END:DAYLIGHT
BEGIN:STANDARD
TZOFFSETFROM:-0700
TZOFFSETTO:-0800
TZNAME:PST
DTSTART:20251102T090000
END:STANDARD
END:VTIMEZONE
BEGIN:VEVENT
DTSTART;TZID=America/Los_Angeles:20250601T190000
DTEND;TZID=America/Los_Angeles:20250602T000000
DTSTAMP:20260422T185914
CREATED:20250513T022331Z
LAST-MODIFIED:20250513T022332Z
UID:10010140-1748804400-1748822400@sftangowith.us
SUMMARY:Milonga @ Alberto's w/ DJ Howoon
DESCRIPTION:7pm – Midnight \nEntrance $15 \n736 W. Dana\, Mountain View\,  California 94041 \nNo communal food or water – bring your own water (but no alcohol).\nLicensed bar will be open all evening.
URL:https://sftangowith.us/event/milonga-albertos-25-23/
LOCATION:Alberto’s Night Club\, 736 W. Dana St.\, Mountain View\, CA\, United States
CATEGORIES:milonga,Recommended for Visitors
ATTACH;FMTTYPE=image/jpeg:https://sftangowith.us/wp-content/uploads/2023/12/DJ-Loco.jpeg
GEO:37.3923683;-122.0789214
X-APPLE-STRUCTURED-LOCATION;VALUE=URI;X-ADDRESS=Alberto’s Night Club 736 W. Dana St. Mountain View CA United States;X-APPLE-RADIUS=500;X-TITLE=736 W. Dana St.:geo:-122.0789214,37.3923683
END:VEVENT
BEGIN:VEVENT
DTSTART;TZID=America/Los_Angeles:20250625T190000
DTEND;TZID=America/Los_Angeles:20250625T220000
DTSTAMP:20260422T185914
CREATED:20250616T041844Z
LAST-MODIFIED:20250625T234943Z
UID:10014887-1750878000-1750888800@sftangowith.us
SUMMARY:Da Moose Practica w/ DJ Howoon
DESCRIPTION:We are all inclusive tango community of dedicated tango lovers. We come every Wednesday to work hard on improving our tango skills. Join us on this journey and enjoy welcoming environment and great music played by our DJ in residence Rene Quebec or a guest DJ. \n¡¡DO NOT: Double park\, block other cars\, block the fire lane\, park in disabled parking\, or in the front of the building!! \nAlternate parking locations: 1) Behind the building to the north at Fortinet or 2) one lot to the west at 901 Kifer.
URL:https://sftangowith.us/event/da-moose-practica-10/
LOCATION:Moose Lodge\, 922 Weddell Court\, Sunnyvale\, CA\, 94089\, United States
CATEGORIES:practica,Recommended for Visitors
GEO:37.3747868;-122.0099086
X-APPLE-STRUCTURED-LOCATION;VALUE=URI;X-ADDRESS=Moose Lodge 922 Weddell Court Sunnyvale CA 94089 United States;X-APPLE-RADIUS=500;X-TITLE=922 Weddell Court:geo:-122.0099086,37.3747868
END:VEVENT
END:VCALENDAR