BEGIN:VCALENDAR
VERSION:2.0
PRODID:-//SF Tango With.Us - ECPv6.6.2//NONSGML v1.0//EN
CALSCALE:GREGORIAN
METHOD:PUBLISH
X-WR-CALNAME:SF Tango With.Us
X-ORIGINAL-URL:https://sftangowith.us
X-WR-CALDESC:Events for SF Tango With.Us
REFRESH-INTERVAL;VALUE=DURATION:PT1H
X-Robots-Tag:noindex
X-PUBLISHED-TTL:PT1H
BEGIN:VTIMEZONE
TZID:America/Los_Angeles
BEGIN:DAYLIGHT
TZOFFSETFROM:-0800
TZOFFSETTO:-0700
TZNAME:PDT
DTSTART:20250309T100000
END:DAYLIGHT
BEGIN:STANDARD
TZOFFSETFROM:-0700
TZOFFSETTO:-0800
TZNAME:PST
DTSTART:20251102T090000
END:STANDARD
END:VTIMEZONE
BEGIN:VEVENT
DTSTART;TZID=America/Los_Angeles:20251202T200000
DTEND;TZID=America/Los_Angeles:20251203T000000
DTSTAMP:20260421T175411
CREATED:20251204T010835Z
LAST-MODIFIED:20251204T010835Z
UID:10012241-1764705600-1764720000@sftangowith.us
SUMMARY:El Valenciano Milonga w/ DJ Howoon
DESCRIPTION:8:00pm – Zero Hour\n$20\n$15 (w/ full-time college student ID)
URL:https://sftangowith.us/event/el-valenciano-milonga-25-49/
LOCATION:El Valenciano\, 1153 Valencia Street\, San Francisco\, CA\, United States
CATEGORIES:class,milonga,Recommended for Visitors
ATTACH;FMTTYPE=image/jpeg:https://sftangowith.us/wp-content/uploads/2021/06/Loco-Howoon-DJ.jpg
GEO:37.7545379;-122.4205807
X-APPLE-STRUCTURED-LOCATION;VALUE=URI;X-ADDRESS=El Valenciano 1153 Valencia Street San Francisco CA United States;X-APPLE-RADIUS=500;X-TITLE=1153 Valencia Street:geo:-122.4205807,37.7545379
END:VEVENT
BEGIN:VEVENT
DTSTART;TZID=America/Los_Angeles:20251217T183000
DTEND;TZID=America/Los_Angeles:20251217T223000
DTSTAMP:20260421T175411
CREATED:20251212T022924Z
LAST-MODIFIED:20251212T022925Z
UID:10016013-1765996200-1766010600@sftangowith.us
SUMMARY:Holiday Milonga @ Portuguese Hall DJ Loco(Howoon)
DESCRIPTION:Please join us for the Annual Potluck Holiday Milonga at the Portuguese Hall of Mountain View. \n6:30 – 7:30 Class with Rena and Mungai\nPerformance by Rena and Mungai 9:30 \n7:30 – 11:00 Potluck Milonga with DJ Loco (Howoon) \nClass $20\nClass + Milonga $35\nMilonga only $20 \n3 blocks from Castro Street\, Alberto’s and Mountain View Train Station\nPlenty of Parking onsite and the streets
URL:https://sftangowith.us/event/wednesday-practica-portuguese-hall-5/
LOCATION:Portuguese Hall of Mountain View\, 361 Villa St\, Mountain View\, CA
CATEGORIES:milonga,practica,Recommended for Visitors
ATTACH;FMTTYPE=image/jpeg:https://sftangowith.us/wp-content/uploads/2023/12/DJ-Loco.jpeg
END:VEVENT
END:VCALENDAR