BEGIN:VCALENDAR
VERSION:2.0
PRODID:-//SF Tango With.Us - ECPv6.6.2//NONSGML v1.0//EN
CALSCALE:GREGORIAN
METHOD:PUBLISH
X-WR-CALNAME:SF Tango With.Us
X-ORIGINAL-URL:https://sftangowith.us
X-WR-CALDESC:Events for SF Tango With.Us
REFRESH-INTERVAL;VALUE=DURATION:PT1H
X-Robots-Tag:noindex
X-PUBLISHED-TTL:PT1H
BEGIN:VTIMEZONE
TZID:America/Los_Angeles
BEGIN:DAYLIGHT
TZOFFSETFROM:-0800
TZOFFSETTO:-0700
TZNAME:PDT
DTSTART:20250309T100000
END:DAYLIGHT
BEGIN:STANDARD
TZOFFSETFROM:-0700
TZOFFSETTO:-0800
TZNAME:PST
DTSTART:20251102T090000
END:STANDARD
END:VTIMEZONE
BEGIN:VEVENT
DTSTART;TZID=America/Los_Angeles:20250504T190000
DTEND;TZID=America/Los_Angeles:20250504T230000
DTSTAMP:20260420T001043
CREATED:20250424T221407Z
LAST-MODIFIED:20250424T221408Z
UID:10015397-1746385200-1746399600@sftangowith.us
SUMMARY:Milonga Rubia w/ DJ Kostas
DESCRIPTION:This is a twice a Month Milonga held at Just Dance Ballroom in Oakland\, California and hosted by Lisette Perelle. \nThere is a different DJ for each event. \nThere is plenty of free parking in front and behind the building with a security guard on duty. \nEntry fee is $20. Cash only.\nB.Y.O.B encouraged as well as bringing a snack to share with others.\nThis is a welcoming\, safe environment and is LGBTQ+ friendly. \nSee you on the dance floor!
URL:https://sftangowith.us/event/milonga-rubia-just-dance-ballroom-2/
LOCATION:Just Dance Ballroom\, 2500 Embarcadero\, Oakland\, CA\, United States
CATEGORIES:milonga
ATTACH;FMTTYPE=image/jpeg:https://sftangowith.us/wp-content/uploads/2022/11/Kostas-DJ.jpg
GEO:37.7757272;-122.2395977
X-APPLE-STRUCTURED-LOCATION;VALUE=URI;X-ADDRESS=Just Dance Ballroom 2500 Embarcadero Oakland CA United States;X-APPLE-RADIUS=500;X-TITLE=2500 Embarcadero:geo:-122.2395977,37.7757272
END:VEVENT
BEGIN:VEVENT
DTSTART;TZID=America/Los_Angeles:20250508T200000
DTEND;TZID=America/Los_Angeles:20250509T000000
DTSTAMP:20260420T001043
CREATED:20250417T223543Z
LAST-MODIFIED:20250506T005231Z
UID:10010580-1746734400-1746748800@sftangowith.us
SUMMARY:Milonga Malevaje w/ Ines Muzzopappa & Corina Herrera Wksp (DJ Kostas)
DESCRIPTION:Class w/ Ines & Corina 7 – 8PM\nTopic: Milonga – Exploring combinations and the best tips to feel comfortable and prepared for changes of dynamics. \nMilonga 8:00PM – 12:00AM\nDJ: Kostas Aretos \nPerformance around 10:00 \nClass: $25\nMilonga: $20\nTogether: $45
URL:https://sftangowith.us/event/milonga-malevaje-25-18/
LOCATION:Verdi Club\, 2424 Mariposa St\, San Francisco\, CA\, United States
CATEGORIES:milonga,Recommended for Visitors
ATTACH;FMTTYPE=image/jpeg:https://sftangowith.us/wp-content/uploads/2025/04/Ines-Corina-Red.jpg
GEO:37.7634058;-122.4079386
X-APPLE-STRUCTURED-LOCATION;VALUE=URI;X-ADDRESS=Verdi Club 2424 Mariposa St San Francisco CA United States;X-APPLE-RADIUS=500;X-TITLE=2424 Mariposa St:geo:-122.4079386,37.7634058
END:VEVENT
BEGIN:VEVENT
DTSTART;TZID=America/Los_Angeles:20250520T200000
DTEND;TZID=America/Los_Angeles:20250521T000000
DTSTAMP:20260420T001043
CREATED:20250430T071340Z
LAST-MODIFIED:20250430T071340Z
UID:10012213-1747771200-1747785600@sftangowith.us
SUMMARY:El Valenciano Milonga w/ DJ Kostas
DESCRIPTION:8:00pm – Zero Hour\n$20\n$15 (w/ full-time college student ID)
URL:https://sftangowith.us/event/el-valenciano-milonga-25-22/
LOCATION:El Valenciano\, 1153 Valencia Street\, San Francisco\, CA\, United States
CATEGORIES:class,milonga,Recommended for Visitors
ATTACH;FMTTYPE=image/jpeg:https://sftangowith.us/wp-content/uploads/2025/04/DJ-Kostas-3.jpeg
GEO:37.7545379;-122.4205807
X-APPLE-STRUCTURED-LOCATION;VALUE=URI;X-ADDRESS=El Valenciano 1153 Valencia Street San Francisco CA United States;X-APPLE-RADIUS=500;X-TITLE=1153 Valencia Street:geo:-122.4205807,37.7545379
END:VEVENT
BEGIN:VEVENT
DTSTART;TZID=America/Los_Angeles:20250525T190000
DTEND;TZID=America/Los_Angeles:20250526T000000
DTSTAMP:20260420T001043
CREATED:20250424T221542Z
LAST-MODIFIED:20250506T010138Z
UID:10010139-1748199600-1748217600@sftangowith.us
SUMMARY:Milonga @ Alberto's w/ DJ Kostas
DESCRIPTION:7pm – Midnight \nEntrance $15 \n736 W. Dana\, Mountain View\,  California 94041 \nNo communal food or water – bring your own water (but no alcohol).\nLicensed bar will be open all evening.
URL:https://sftangowith.us/event/milonga-albertos-25-20/
LOCATION:Alberto’s Night Club\, 736 W. Dana St.\, Mountain View\, CA\, United States
CATEGORIES:milonga,Recommended for Visitors
ATTACH;FMTTYPE=image/jpeg:https://sftangowith.us/wp-content/uploads/2025/04/DJ-Kostas-2.jpeg
GEO:37.3923683;-122.0789214
X-APPLE-STRUCTURED-LOCATION;VALUE=URI;X-ADDRESS=Alberto’s Night Club 736 W. Dana St. Mountain View CA United States;X-APPLE-RADIUS=500;X-TITLE=736 W. Dana St.:geo:-122.0789214,37.3923683
END:VEVENT
END:VCALENDAR