BEGIN:VCALENDAR
VERSION:2.0
PRODID:-//SF Tango With.Us - ECPv6.6.2//NONSGML v1.0//EN
CALSCALE:GREGORIAN
METHOD:PUBLISH
X-ORIGINAL-URL:https://sftangowith.us
X-WR-CALDESC:Events for SF Tango With.Us
REFRESH-INTERVAL;VALUE=DURATION:PT1H
X-Robots-Tag:noindex
X-PUBLISHED-TTL:PT1H
BEGIN:VTIMEZONE
TZID:America/Los_Angeles
BEGIN:DAYLIGHT
TZOFFSETFROM:-0800
TZOFFSETTO:-0700
TZNAME:PDT
DTSTART:20250309T100000
END:DAYLIGHT
BEGIN:STANDARD
TZOFFSETFROM:-0700
TZOFFSETTO:-0800
TZNAME:PST
DTSTART:20251102T090000
END:STANDARD
END:VTIMEZONE
BEGIN:VEVENT
DTSTART;TZID=America/Los_Angeles:20250702T190000
DTEND;TZID=America/Los_Angeles:20250702T220000
DTSTAMP:20260421T095248
CREATED:20250429T191729Z
LAST-MODIFIED:20250605T183611Z
UID:10015524-1751482800-1751493600@sftangowith.us
SUMMARY:Tango 101 and Intermediate Tango w/ Felipe & Ayano (6 dance classes)
DESCRIPTION:Join us for Tango 101 or Intermediate Tango with Felipe Martinez and Ayano Yoneda!  Both class levels meet on six Wednesdays starting Wednesday\, May 21st.  Felipe and Ayano teach a fun\, challenging class that emphasizes tango structure and technique for social dancing. \nUPDATE:  This series has already started.  If you are new to tango\, we recommend that you wait and start at the beginning of our next four-week series on Wednesday\, July 9th.  (This series is also taught by Felipe and Ayano!) \nThese classes are taught using the terms “leaders” and “followers\,” and are inclusive to queer\, trans\, and non-binary people. \nWednesdays\, May 21\, 28; Jun 11\, 18\, 25; Jul 2\n6:45 pm: check-in\n7:00-8:00 pm beginning tango series\n8:00-8:30 pm practica\n8:30-9:30 pm intermediate tango series\n9:30-10:00 pm practica \nThe practicas are included with the classes. Stay\, dance\, and ask questions! Beginners may stay and watch the intermediate class. Intermediate students are welcome to arrive at 8:00 to practice together with the beginners. \n$120 general admission (six classes)\n$25 general admission (single class)\n$15 student with ID (single class) \nWe accept cash and venmo at the door. \nBerkeley City Club\n2315 Durant Ave.\nBerkeley\, CA 94704 \nDrinks are for sale at Morgan’s Bar and Lounge\, across the hall from the ballroom. All ages are welcome in the dance classes. \nWe are a 10-minute walk from Downtown Berkeley BART. For bike parking\, use the bell to enter through the service entrance\, and go straight to get to the back courtyard. No parking in the City Club lot. Street parking is free after 6:00 pm. Extra parking is available for $2 per hour at the Ellsworth Structure at 2337 Haste St. There is also parking at First Church\, right across Durant from the Berkeley City Club\, for a $10 flat fee (pay with qr code). \nEvent organized by Lindsey Newbold. La Bruja Tango holds tango classes (almost) every Wednesday.
URL:https://sftangowith.us/event/tango-101-w-felipe-ayano-and-intermediate-tango-series-6-dates/2025-07-02/
LOCATION:Berkeley City Club\, 2315 Durant Ave\, Berkeley\, 94704\, United States
CATEGORIES:class,practica
ORGANIZER;CN="Berkeley City Club":MAILTO:info@labrujatangoberkeley.com
GEO:37.8676008;-122.2627745
X-APPLE-STRUCTURED-LOCATION;VALUE=URI;X-ADDRESS=Berkeley City Club 2315 Durant Ave Berkeley 94704 United States;X-APPLE-RADIUS=500;X-TITLE=2315 Durant Ave:geo:-122.2627745,37.8676008
END:VEVENT
BEGIN:VEVENT
DTSTART;TZID=America/Los_Angeles:20250703T200000
DTEND;TZID=America/Los_Angeles:20250704T000000
DTSTAMP:20260421T095248
CREATED:20250528T220751Z
LAST-MODIFIED:20250528T220752Z
UID:10010588-1751572800-1751587200@sftangowith.us
SUMMARY:Milonga Malevaje w/ DJ Felipe
DESCRIPTION:Every Thursday from 8:00 to 12:00\nWhen Class. from 7:00 to 8:00 \nBar is open! No outside drinks allowed\, please.
URL:https://sftangowith.us/event/milonga-malevaje-25-25/
LOCATION:Verdi Club\, 2424 Mariposa St\, San Francisco\, CA\, United States
CATEGORIES:milonga,Recommended for Visitors
ATTACH;FMTTYPE=image/jpeg:https://sftangowith.us/wp-content/uploads/2024/06/Felipe-y-Ayano-Seoul-Tango-Festival.jpg
GEO:37.7634058;-122.4079386
X-APPLE-STRUCTURED-LOCATION;VALUE=URI;X-ADDRESS=Verdi Club 2424 Mariposa St San Francisco CA United States;X-APPLE-RADIUS=500;X-TITLE=2424 Mariposa St:geo:-122.4079386,37.7634058
END:VEVENT
BEGIN:VEVENT
DTSTART;TZID=America/Los_Angeles:20250707T201500
DTEND;TZID=America/Los_Angeles:20250708T003000
DTSTAMP:20260421T095248
CREATED:20250630T225229Z
LAST-MODIFIED:20250630T225230Z
UID:10014158-1751919300-1751934600@sftangowith.us
SUMMARY:Monday Night Tango @ The Beat w/ DJ Emmanouela
DESCRIPTION:8:15-9:30p – Intermediate class\n9:30p-0:30a – Practica \nRegistration required for NEW DANCERS ONLY\n(if you haven’t attended Monday / Allnighter since 2021)\nhttps://tangonnection.wixsite.com/felipetango/beat \nIf you don’t feel well\, please stay at home.\nWe will keep the room well-ventilated. Please bring layers.\nStaying up to date with COVID-19 vaccines is highly recommended. \nIf you contracted COVID-19 within 5 days from attending this event\, please contact us. We will notify the attendees.
URL:https://sftangowith.us/event/monday-night-tango-the-beat-25-2-17/
LOCATION:The Beat\, 2560 Ninth Street\, Berkeley\, CA\, United States
CATEGORIES:class,milonga,practica,Recommended for Visitors
ATTACH;FMTTYPE=image/jpeg:https://sftangowith.us/wp-content/uploads/2017/06/Felipe-Ayano-July30.jpg
ORGANIZER;CN="Felipe and Ayano":MAILTO:tangonnection@gmail.com
GEO:37.8591971;-122.2917693
X-APPLE-STRUCTURED-LOCATION;VALUE=URI;X-ADDRESS=The Beat 2560 Ninth Street Berkeley CA United States;X-APPLE-RADIUS=500;X-TITLE=2560 Ninth Street:geo:-122.2917693,37.8591971
END:VEVENT
BEGIN:VEVENT
DTSTART;TZID=America/Los_Angeles:20250711T203000
DTEND;TZID=America/Los_Angeles:20250712T003000
DTSTAMP:20260421T095248
CREATED:20250708T010852Z
LAST-MODIFIED:20250708T010944Z
UID:10015540-1752265800-1752280200@sftangowith.us
SUMMARY:La Milonga Genesis w/ DJ Felipe
DESCRIPTION:La Milonga: 8:30pm-12:30am \n– Discounts offered for those in financial hardship\nemail: tangosaborsf@nullgmail.com
URL:https://sftangowith.us/event/la-milonga-genesis-25-2-9/
LOCATION:Genesis Dance\, 404 Clement St.\, San Francisco\, CA
CATEGORIES:milonga,Recommended for Visitors
ATTACH;FMTTYPE=image/jpeg:https://sftangowith.us/wp-content/uploads/2024/06/Felipe-y-Ayano-Seoul-Tango-Festival.jpg
GEO:37.7832315;-122.4636431
X-APPLE-STRUCTURED-LOCATION;VALUE=URI;X-ADDRESS=Genesis Dance 404 Clement St. San Francisco CA;X-APPLE-RADIUS=500;X-TITLE=404 Clement St.:geo:-122.4636431,37.7832315
END:VEVENT
BEGIN:VEVENT
DTSTART;TZID=America/Los_Angeles:20250713T190000
DTEND;TZID=America/Los_Angeles:20250714T000000
DTSTAMP:20260421T095248
CREATED:20250630T225420Z
LAST-MODIFIED:20250630T225421Z
UID:10010146-1752433200-1752451200@sftangowith.us
SUMMARY:Milonga @ Alberto's w/ DJ Felipe
DESCRIPTION:7pm – Midnight \nEntrance $15 \n736 W. Dana\, Mountain View\,  California 94041 \nNo communal food or water – bring your own water (but no alcohol).\nLicensed bar will be open all evening.
URL:https://sftangowith.us/event/milonga-albertos-25-29/
LOCATION:Alberto’s Night Club\, 736 W. Dana St.\, Mountain View\, CA\, United States
CATEGORIES:milonga,Recommended for Visitors
ATTACH;FMTTYPE=image/jpeg:https://sftangowith.us/wp-content/uploads/2017/06/Felipe-Martinez-DJ.jpg
GEO:37.3923683;-122.0789214
X-APPLE-STRUCTURED-LOCATION;VALUE=URI;X-ADDRESS=Alberto’s Night Club 736 W. Dana St. Mountain View CA United States;X-APPLE-RADIUS=500;X-TITLE=736 W. Dana St.:geo:-122.0789214,37.3923683
END:VEVENT
BEGIN:VEVENT
DTSTART;TZID=America/Los_Angeles:20250714T201500
DTEND;TZID=America/Los_Angeles:20250715T003000
DTSTAMP:20260421T095248
CREATED:20241110T225123Z
LAST-MODIFIED:20250824T032348Z
UID:10014159-1752524100-1752539400@sftangowith.us
SUMMARY:Monday Night Tango @ The Beat
DESCRIPTION:8:15-9:30p – Intermediate class\n9:30p-0:30a – Practica \nRegistration required for NEW DANCERS ONLY\n(if you haven’t attended Monday / Allnighter since 2021)\nhttps://tangonnection.wixsite.com/felipetango/beat
URL:https://sftangowith.us/event/monday-night-tango-the-beat-25-2/2025-07-14/
LOCATION:The Beat\, 2560 Ninth Street\, Berkeley\, CA\, United States
CATEGORIES:class,milonga,practica,Recommended for Visitors
ATTACH;FMTTYPE=image/jpeg:https://sftangowith.us/wp-content/uploads/2017/06/Felipe-Ayano-July30.jpg
ORGANIZER;CN="Felipe and Ayano":MAILTO:tangonnection@gmail.com
GEO:37.8591971;-122.2917693
X-APPLE-STRUCTURED-LOCATION;VALUE=URI;X-ADDRESS=The Beat 2560 Ninth Street Berkeley CA United States;X-APPLE-RADIUS=500;X-TITLE=2560 Ninth Street:geo:-122.2917693,37.8591971
END:VEVENT
BEGIN:VEVENT
DTSTART;TZID=America/Los_Angeles:20250716T190000
DTEND;TZID=America/Los_Angeles:20250716T223000
DTSTAMP:20260421T095248
CREATED:20250630T222536Z
LAST-MODIFIED:20250721T223623Z
UID:10015629-1752692400-1752705000@sftangowith.us
SUMMARY:Tango dance classes with Felipe & Ayano\, Berkeley (beginning & int.)
DESCRIPTION:Join us for beginning tango or intermediate tango with Felipe Martinez and Ayano Yoneda! This is a series of three dates on Wednesdays at the Berkeley City Club.\n\nThese classes are taught using the terms “leaders” and “followers\,” and are inclusive to queer\, trans\, and non-binary people.\nIf you have just taken Tango 101 for the first time\, we recommend that you take the beginner level. The class will include some review and some new material.\n\nWednesdays: July 16th\, 25th\, and 30th.\n6:45-7:00 pm: check-in7:00-8:00 pm beginning tango8:00-8:30 pm practica8:30-9:30 pm intermediate tango9:30-10:30 pm practica\nThe practicas are included with the classes. Stay\, dance\, and ask questions!\n\nWe encourage everyone to sign up for all three classes. Especially if you are new to tango\, try to start on July 16th!\n\nTango is in the ballroom on July 16th; in the drawing room on July 23rd\, and in the ballroom on July 30th.\n\n$60 general admission (three classes\, beg. or int)$25 general admission (single class\, beg. or int)$15 student with ID (single class\, beg. or int)We accept cash and venmo at the door.\n\nOn eventbrite\, the tickets are:$65.87 general admission (three classes\, beg. or int)$49.87 student with ID (three classes\, beg or int)\nBeginning tango: https://www.eventbrite.com/e/1432396178529Intermediate tango: https://www.eventbrite.com/e/1388194831109\n\nWe are a 10-minute walk from Downtown Berkeley BART. For bike parking\, use the bell to enter through the service entrance\, and go straight to get to the back courtyard. No parking in the City Club lot. Extra parking is available for $2 per hour at the Ellsworth Structure at 2337 Haste St.\n\nEvent organized by Lindsey Newbold. La Bruja holds tango classes at the Berkeley City Club almost every Wednesday.
URL:https://sftangowith.us/event/tango-dance-classes-with-felipe-ayano-berkeley-beginning-int/2025-07-16/
LOCATION:Berkeley City Club\, 2315 Durant Ave\, Berkeley\, 94704\, United States
CATEGORIES:class,practica
ATTACH;FMTTYPE=image/jpeg:https://sftangowith.us/wp-content/uploads/2025/06/445003998_10161464263824507_8697912094324750593_n.jpg
ORGANIZER;CN="Berkeley City Club":MAILTO:info@labrujatangoberkeley.com
GEO:37.8676008;-122.2627745
X-APPLE-STRUCTURED-LOCATION;VALUE=URI;X-ADDRESS=Berkeley City Club 2315 Durant Ave Berkeley 94704 United States;X-APPLE-RADIUS=500;X-TITLE=2315 Durant Ave:geo:-122.2627745,37.8676008
END:VEVENT
BEGIN:VEVENT
DTSTART;TZID=America/Los_Angeles:20250721T201500
DTEND;TZID=America/Los_Angeles:20250722T003000
DTSTAMP:20260421T095248
CREATED:20241110T225123Z
LAST-MODIFIED:20250824T032348Z
UID:10014160-1753128900-1753144200@sftangowith.us
SUMMARY:Monday Night Tango @ The Beat
DESCRIPTION:8:15-9:30p – Intermediate class\n9:30p-0:30a – Practica \nRegistration required for NEW DANCERS ONLY\n(if you haven’t attended Monday / Allnighter since 2021)\nhttps://tangonnection.wixsite.com/felipetango/beat
URL:https://sftangowith.us/event/monday-night-tango-the-beat-25-2/2025-07-21/
LOCATION:The Beat\, 2560 Ninth Street\, Berkeley\, CA\, United States
CATEGORIES:class,milonga,practica,Recommended for Visitors
ATTACH;FMTTYPE=image/jpeg:https://sftangowith.us/wp-content/uploads/2017/06/Felipe-Ayano-July30.jpg
ORGANIZER;CN="Felipe and Ayano":MAILTO:tangonnection@gmail.com
GEO:37.8591971;-122.2917693
X-APPLE-STRUCTURED-LOCATION;VALUE=URI;X-ADDRESS=The Beat 2560 Ninth Street Berkeley CA United States;X-APPLE-RADIUS=500;X-TITLE=2560 Ninth Street:geo:-122.2917693,37.8591971
END:VEVENT
BEGIN:VEVENT
DTSTART;TZID=America/Los_Angeles:20250723T190000
DTEND;TZID=America/Los_Angeles:20250723T223000
DTSTAMP:20260421T095248
CREATED:20250630T222536Z
LAST-MODIFIED:20250721T223623Z
UID:10015630-1753297200-1753309800@sftangowith.us
SUMMARY:Tango dance classes with Felipe & Ayano\, Berkeley (beginning & int.)
DESCRIPTION:Join us for beginning tango or intermediate tango with Felipe Martinez and Ayano Yoneda! This is a series of three dates on Wednesdays at the Berkeley City Club.\n\nThese classes are taught using the terms “leaders” and “followers\,” and are inclusive to queer\, trans\, and non-binary people.\nIf you have just taken Tango 101 for the first time\, we recommend that you take the beginner level. The class will include some review and some new material.\n\nWednesdays: July 16th\, 25th\, and 30th.\n6:45-7:00 pm: check-in7:00-8:00 pm beginning tango8:00-8:30 pm practica8:30-9:30 pm intermediate tango9:30-10:30 pm practica\nThe practicas are included with the classes. Stay\, dance\, and ask questions!\n\nWe encourage everyone to sign up for all three classes. Especially if you are new to tango\, try to start on July 16th!\n\nTango is in the ballroom on July 16th; in the drawing room on July 23rd\, and in the ballroom on July 30th.\n\n$60 general admission (three classes\, beg. or int)$25 general admission (single class\, beg. or int)$15 student with ID (single class\, beg. or int)We accept cash and venmo at the door.\n\nOn eventbrite\, the tickets are:$65.87 general admission (three classes\, beg. or int)$49.87 student with ID (three classes\, beg or int)\nBeginning tango: https://www.eventbrite.com/e/1432396178529Intermediate tango: https://www.eventbrite.com/e/1388194831109\n\nWe are a 10-minute walk from Downtown Berkeley BART. For bike parking\, use the bell to enter through the service entrance\, and go straight to get to the back courtyard. No parking in the City Club lot. Extra parking is available for $2 per hour at the Ellsworth Structure at 2337 Haste St.\n\nEvent organized by Lindsey Newbold. La Bruja holds tango classes at the Berkeley City Club almost every Wednesday.
URL:https://sftangowith.us/event/tango-dance-classes-with-felipe-ayano-berkeley-beginning-int/2025-07-23/
LOCATION:Berkeley City Club\, 2315 Durant Ave\, Berkeley\, 94704\, United States
CATEGORIES:class,practica
ATTACH;FMTTYPE=image/jpeg:https://sftangowith.us/wp-content/uploads/2025/06/445003998_10161464263824507_8697912094324750593_n.jpg
ORGANIZER;CN="Berkeley City Club":MAILTO:info@labrujatangoberkeley.com
GEO:37.8676008;-122.2627745
X-APPLE-STRUCTURED-LOCATION;VALUE=URI;X-ADDRESS=Berkeley City Club 2315 Durant Ave Berkeley 94704 United States;X-APPLE-RADIUS=500;X-TITLE=2315 Durant Ave:geo:-122.2627745,37.8676008
END:VEVENT
BEGIN:VEVENT
DTSTART;TZID=America/Los_Angeles:20250726T200000
DTEND;TZID=America/Los_Angeles:20250727T030000
DTSTAMP:20260421T095248
CREATED:20250702T212514Z
LAST-MODIFIED:20250702T212514Z
UID:10012736-1753560000-1753585200@sftangowith.us
SUMMARY:All Night Milonga @ The Beat w/ DJ Gokhan
DESCRIPTION:We’ll provide refreshments throughout the night. You’re also welcome to bring snacks to share. \n8:00 – 9:00 Tango class\n9:00 – 3:00a Milonga with Guest DJ \nSliding scale*\n$40-50 class & milonga\n$25-30 milonga only\n* you can pay any amount in between \nCash accepted at the door \nHigh-quality masks are advised.\nRegistration is required only for first-time attendees since 2021:\nhttps://tangonnection.wixsite.com/felipetango/beat \nMore details:\nhttps://www.facebook.com/groups/587339038104024
URL:https://sftangowith.us/event/all-night-milonga-the-beat-25-7/
LOCATION:The Beat\, 2560 Ninth Street\, Berkeley\, CA\, United States
CATEGORIES:all-nighter,milonga,Recommended for Visitors
ATTACH;FMTTYPE=image/jpeg:https://sftangowith.us/wp-content/uploads/2021/06/301737353_589784886214170_5799780673428711832_n.jpg
GEO:37.8591971;-122.2917693
X-APPLE-STRUCTURED-LOCATION;VALUE=URI;X-ADDRESS=The Beat 2560 Ninth Street Berkeley CA United States;X-APPLE-RADIUS=500;X-TITLE=2560 Ninth Street:geo:-122.2917693,37.8591971
END:VEVENT
BEGIN:VEVENT
DTSTART;TZID=America/Los_Angeles:20250727T190000
DTEND;TZID=America/Los_Angeles:20250728T000000
DTSTAMP:20260421T095248
CREATED:20250630T225557Z
LAST-MODIFIED:20250630T225836Z
UID:10010148-1753642800-1753660800@sftangowith.us
SUMMARY:Milonga @ Alberto's w/ DJ Ayano
DESCRIPTION:7pm – Midnight \nEntrance $15 \n736 W. Dana\, Mountain View\,  California 94041 \nNo communal food or water – bring your own water (but no alcohol).\nLicensed bar will be open all evening.
URL:https://sftangowith.us/event/milonga-albertos-25-31/
LOCATION:Alberto’s Night Club\, 736 W. Dana St.\, Mountain View\, CA\, United States
CATEGORIES:milonga,Recommended for Visitors
ATTACH;FMTTYPE=image/jpeg:https://sftangowith.us/wp-content/uploads/2022/06/NTW2022-Ayano.jpg
GEO:37.3923683;-122.0789214
X-APPLE-STRUCTURED-LOCATION;VALUE=URI;X-ADDRESS=Alberto’s Night Club 736 W. Dana St. Mountain View CA United States;X-APPLE-RADIUS=500;X-TITLE=736 W. Dana St.:geo:-122.0789214,37.3923683
END:VEVENT
BEGIN:VEVENT
DTSTART;TZID=America/Los_Angeles:20250728T201500
DTEND;TZID=America/Los_Angeles:20250729T003000
DTSTAMP:20260421T095248
CREATED:20241110T225123Z
LAST-MODIFIED:20250824T032348Z
UID:10014161-1753733700-1753749000@sftangowith.us
SUMMARY:Monday Night Tango @ The Beat
DESCRIPTION:8:15-9:30p – Intermediate class\n9:30p-0:30a – Practica \nRegistration required for NEW DANCERS ONLY\n(if you haven’t attended Monday / Allnighter since 2021)\nhttps://tangonnection.wixsite.com/felipetango/beat
URL:https://sftangowith.us/event/monday-night-tango-the-beat-25-2/2025-07-28/
LOCATION:The Beat\, 2560 Ninth Street\, Berkeley\, CA\, United States
CATEGORIES:class,milonga,practica,Recommended for Visitors
ATTACH;FMTTYPE=image/jpeg:https://sftangowith.us/wp-content/uploads/2017/06/Felipe-Ayano-July30.jpg
ORGANIZER;CN="Felipe and Ayano":MAILTO:tangonnection@gmail.com
GEO:37.8591971;-122.2917693
X-APPLE-STRUCTURED-LOCATION;VALUE=URI;X-ADDRESS=The Beat 2560 Ninth Street Berkeley CA United States;X-APPLE-RADIUS=500;X-TITLE=2560 Ninth Street:geo:-122.2917693,37.8591971
END:VEVENT
BEGIN:VEVENT
DTSTART;TZID=America/Los_Angeles:20250729T200000
DTEND;TZID=America/Los_Angeles:20250730T000000
DTSTAMP:20260421T095248
CREATED:20250709T025646Z
LAST-MODIFIED:20250709T025647Z
UID:10012223-1753819200-1753833600@sftangowith.us
SUMMARY:El Valenciano Milonga w/ DJ Felipe
DESCRIPTION:8:00pm – Zero Hour\n$20\n$15 (w/ full-time college student ID)
URL:https://sftangowith.us/event/el-valenciano-milonga-25-32/
LOCATION:El Valenciano\, 1153 Valencia Street\, San Francisco\, CA\, United States
CATEGORIES:class,milonga,Recommended for Visitors
ATTACH;FMTTYPE=image/jpeg:https://sftangowith.us/wp-content/uploads/2024/04/FelipeAyanoMidos.jpg
GEO:37.7545379;-122.4205807
X-APPLE-STRUCTURED-LOCATION;VALUE=URI;X-ADDRESS=El Valenciano 1153 Valencia Street San Francisco CA United States;X-APPLE-RADIUS=500;X-TITLE=1153 Valencia Street:geo:-122.4205807,37.7545379
END:VEVENT
BEGIN:VEVENT
DTSTART;TZID=America/Los_Angeles:20250730T190000
DTEND;TZID=America/Los_Angeles:20250730T223000
DTSTAMP:20260421T095248
CREATED:20250630T222536Z
LAST-MODIFIED:20250721T223623Z
UID:10015631-1753902000-1753914600@sftangowith.us
SUMMARY:Tango dance classes with Felipe & Ayano\, Berkeley (beginning & int.)
DESCRIPTION:Join us for beginning tango or intermediate tango with Felipe Martinez and Ayano Yoneda! This is a series of three dates on Wednesdays at the Berkeley City Club.\n\nThese classes are taught using the terms “leaders” and “followers\,” and are inclusive to queer\, trans\, and non-binary people.\nIf you have just taken Tango 101 for the first time\, we recommend that you take the beginner level. The class will include some review and some new material.\n\nWednesdays: July 16th\, 25th\, and 30th.\n6:45-7:00 pm: check-in7:00-8:00 pm beginning tango8:00-8:30 pm practica8:30-9:30 pm intermediate tango9:30-10:30 pm practica\nThe practicas are included with the classes. Stay\, dance\, and ask questions!\n\nWe encourage everyone to sign up for all three classes. Especially if you are new to tango\, try to start on July 16th!\n\nTango is in the ballroom on July 16th; in the drawing room on July 23rd\, and in the ballroom on July 30th.\n\n$60 general admission (three classes\, beg. or int)$25 general admission (single class\, beg. or int)$15 student with ID (single class\, beg. or int)We accept cash and venmo at the door.\n\nOn eventbrite\, the tickets are:$65.87 general admission (three classes\, beg. or int)$49.87 student with ID (three classes\, beg or int)\nBeginning tango: https://www.eventbrite.com/e/1432396178529Intermediate tango: https://www.eventbrite.com/e/1388194831109\n\nWe are a 10-minute walk from Downtown Berkeley BART. For bike parking\, use the bell to enter through the service entrance\, and go straight to get to the back courtyard. No parking in the City Club lot. Extra parking is available for $2 per hour at the Ellsworth Structure at 2337 Haste St.\n\nEvent organized by Lindsey Newbold. La Bruja holds tango classes at the Berkeley City Club almost every Wednesday.
URL:https://sftangowith.us/event/tango-dance-classes-with-felipe-ayano-berkeley-beginning-int/2025-07-30/
LOCATION:Berkeley City Club\, 2315 Durant Ave\, Berkeley\, 94704\, United States
CATEGORIES:class,practica
ATTACH;FMTTYPE=image/jpeg:https://sftangowith.us/wp-content/uploads/2025/06/445003998_10161464263824507_8697912094324750593_n.jpg
ORGANIZER;CN="Berkeley City Club":MAILTO:info@labrujatangoberkeley.com
GEO:37.8676008;-122.2627745
X-APPLE-STRUCTURED-LOCATION;VALUE=URI;X-ADDRESS=Berkeley City Club 2315 Durant Ave Berkeley 94704 United States;X-APPLE-RADIUS=500;X-TITLE=2315 Durant Ave:geo:-122.2627745,37.8676008
END:VEVENT
END:VCALENDAR