BEGIN:VCALENDAR
VERSION:2.0
PRODID:-//SF Tango With.Us - ECPv6.6.2//NONSGML v1.0//EN
CALSCALE:GREGORIAN
METHOD:PUBLISH
X-WR-CALNAME:SF Tango With.Us
X-ORIGINAL-URL:https://sftangowith.us
X-WR-CALDESC:Events for SF Tango With.Us
REFRESH-INTERVAL;VALUE=DURATION:PT1H
X-Robots-Tag:noindex
X-PUBLISHED-TTL:PT1H
BEGIN:VTIMEZONE
TZID:America/Los_Angeles
BEGIN:DAYLIGHT
TZOFFSETFROM:-0800
TZOFFSETTO:-0700
TZNAME:PDT
DTSTART:20250309T100000
END:DAYLIGHT
BEGIN:STANDARD
TZOFFSETFROM:-0700
TZOFFSETTO:-0800
TZNAME:PST
DTSTART:20251102T090000
END:STANDARD
END:VTIMEZONE
BEGIN:VEVENT
DTSTART;TZID=America/Los_Angeles:20250810T190000
DTEND;TZID=America/Los_Angeles:20250811T000000
DTSTAMP:20260421T170613
CREATED:20250726T214713Z
LAST-MODIFIED:20250726T214747Z
UID:10010150-1754852400-1754870400@sftangowith.us
SUMMARY:Milonga @ Alberto's w/ DJ Felipe
DESCRIPTION:7pm – Midnight \nEntrance $15 \n736 W. Dana\, Mountain View\,  California 94041 \nNo communal food or water – bring your own water (but no alcohol).\nLicensed bar will be open all evening.
URL:https://sftangowith.us/event/milonga-albertos-25-33/
LOCATION:Alberto’s Night Club\, 736 W. Dana St.\, Mountain View\, CA\, United States
CATEGORIES:milonga,Recommended for Visitors
ATTACH;FMTTYPE=image/jpeg:https://sftangowith.us/wp-content/uploads/2024/06/Felipe-y-Ayano-Seoul-Tango-Festival.jpg
GEO:37.3923683;-122.0789214
X-APPLE-STRUCTURED-LOCATION;VALUE=URI;X-ADDRESS=Alberto’s Night Club 736 W. Dana St. Mountain View CA United States;X-APPLE-RADIUS=500;X-TITLE=736 W. Dana St.:geo:-122.0789214,37.3923683
END:VEVENT
BEGIN:VEVENT
DTSTART;TZID=America/Los_Angeles:20250811T201500
DTEND;TZID=America/Los_Angeles:20250812T003000
DTSTAMP:20260421T170613
CREATED:20241110T225123Z
LAST-MODIFIED:20250824T032348Z
UID:10014163-1754943300-1754958600@sftangowith.us
SUMMARY:Monday Night Tango @ The Beat
DESCRIPTION:8:15-9:30p – Intermediate class\n9:30p-0:30a – Practica \nRegistration required for NEW DANCERS ONLY\n(if you haven’t attended Monday / Allnighter since 2021)\nhttps://tangonnection.wixsite.com/felipetango/beat
URL:https://sftangowith.us/event/monday-night-tango-the-beat-25-2/2025-08-11/
LOCATION:The Beat\, 2560 Ninth Street\, Berkeley\, CA\, United States
CATEGORIES:class,milonga,practica,Recommended for Visitors
ATTACH;FMTTYPE=image/jpeg:https://sftangowith.us/wp-content/uploads/2017/06/Felipe-Ayano-July30.jpg
ORGANIZER;CN="Felipe and Ayano":MAILTO:tangonnection@gmail.com
GEO:37.8591971;-122.2917693
X-APPLE-STRUCTURED-LOCATION;VALUE=URI;X-ADDRESS=The Beat 2560 Ninth Street Berkeley CA United States;X-APPLE-RADIUS=500;X-TITLE=2560 Ninth Street:geo:-122.2917693,37.8591971
END:VEVENT
BEGIN:VEVENT
DTSTART;TZID=America/Los_Angeles:20250815T203000
DTEND;TZID=America/Los_Angeles:20250816T003000
DTSTAMP:20260421T170613
CREATED:20250729T210246Z
LAST-MODIFIED:20250804T223144Z
UID:10015545-1755289800-1755304200@sftangowith.us
SUMMARY:La Milonga Genesis w/ Luciana & Matias Workshop (DJ Ayano)
DESCRIPTION:8:30-9:30pm – Tango Workshop LUCIANA VALLE & MATIAS SOTTO\nTopic: Circular vs linear Barridas \n9:30pm-12:30am w/ DJ AYANO \nWorkshop only $25\nWorkshop & Milonga $40\nMilonga only $20\n$5 Discount for full-time college students \nLuciana Valle hosted by\nMay Luke & Timothy Yoshida\nhttps://www.facebook.com/tim.yoshida1
URL:https://sftangowith.us/event/la-milonga-genesis-25-2-12/
LOCATION:Genesis Dance\, 404 Clement St.\, San Francisco\, CA
CATEGORIES:milonga,Recommended for Visitors,workshop
ATTACH;FMTTYPE=image/jpeg:https://sftangowith.us/wp-content/uploads/2023/07/Luciana-Valle.jpg
GEO:37.7832315;-122.4636431
X-APPLE-STRUCTURED-LOCATION;VALUE=URI;X-ADDRESS=Genesis Dance 404 Clement St. San Francisco CA;X-APPLE-RADIUS=500;X-TITLE=404 Clement St.:geo:-122.4636431,37.7832315
END:VEVENT
END:VCALENDAR