BEGIN:VCALENDAR
VERSION:2.0
PRODID:-//SF Tango With.Us - ECPv6.6.2//NONSGML v1.0//EN
CALSCALE:GREGORIAN
METHOD:PUBLISH
X-WR-CALNAME:SF Tango With.Us
X-ORIGINAL-URL:https://sftangowith.us
X-WR-CALDESC:Events for SF Tango With.Us
REFRESH-INTERVAL;VALUE=DURATION:PT1H
X-Robots-Tag:noindex
X-PUBLISHED-TTL:PT1H
BEGIN:VTIMEZONE
TZID:America/Los_Angeles
BEGIN:DAYLIGHT
TZOFFSETFROM:-0800
TZOFFSETTO:-0700
TZNAME:PDT
DTSTART:20250309T100000
END:DAYLIGHT
BEGIN:STANDARD
TZOFFSETFROM:-0700
TZOFFSETTO:-0800
TZNAME:PST
DTSTART:20251102T090000
END:STANDARD
END:VTIMEZONE
BEGIN:VEVENT
DTSTART;TZID=America/Los_Angeles:20250823T200000
DTEND;TZID=America/Los_Angeles:20250824T030000
DTSTAMP:20260421T150954
CREATED:20250823T011257Z
LAST-MODIFIED:20250823T011258Z
UID:10012737-1755979200-1756004400@sftangowith.us
SUMMARY:All Night Milonga @ The Beat w/ DJ Prashant
DESCRIPTION:8:00 – 9:00 Class with Ayano & Felipe\n“Advance!!! Tango as a “tribal” dance. Dos and don’ts on how to use the space. Clarifying the doubts and myths around navigating the music in a variable space”.\n9:00 – 3:00a Milonga w/ DJ Prashant \nClass+Milonga $35-45 sliding scale (we appreciate your extra support)\nMilonga only $25-35 sliding scale (we appreciate your extra support) \nRegistration is required only for first-time attendees since 2021:\nhttps://tangonnection.wixsite.com/felipetango/beat \nMore details:\nhttps://www.facebook.com/groups/587339038104024
URL:https://sftangowith.us/event/all-night-milonga-the-beat-25-8/
LOCATION:The Beat\, 2560 Ninth Street\, Berkeley\, CA\, United States
CATEGORIES:all-nighter,milonga,Recommended for Visitors
ATTACH;FMTTYPE=image/jpeg:https://sftangowith.us/wp-content/uploads/2023/06/DJ-Prashant.jpeg
GEO:37.8591971;-122.2917693
X-APPLE-STRUCTURED-LOCATION;VALUE=URI;X-ADDRESS=The Beat 2560 Ninth Street Berkeley CA United States;X-APPLE-RADIUS=500;X-TITLE=2560 Ninth Street:geo:-122.2917693,37.8591971
END:VEVENT
BEGIN:VEVENT
DTSTART;TZID=America/Los_Angeles:20250825T201500
DTEND;TZID=America/Los_Angeles:20250826T003000
DTSTAMP:20260421T150954
CREATED:20241110T225123Z
LAST-MODIFIED:20250824T032348Z
UID:10014165-1756152900-1756168200@sftangowith.us
SUMMARY:Monday Night Tango @ The Beat
DESCRIPTION:8:15-9:30p – Intermediate class\n9:30p-0:30a – Practica \nRegistration required for NEW DANCERS ONLY\n(if you haven’t attended Monday / Allnighter since 2021)\nhttps://tangonnection.wixsite.com/felipetango/beat
URL:https://sftangowith.us/event/monday-night-tango-the-beat-25-2/2025-08-25/
LOCATION:The Beat\, 2560 Ninth Street\, Berkeley\, CA\, United States
CATEGORIES:class,milonga,practica,Recommended for Visitors
ATTACH;FMTTYPE=image/jpeg:https://sftangowith.us/wp-content/uploads/2017/06/Felipe-Ayano-July30.jpg
ORGANIZER;CN="Felipe and Ayano":MAILTO:tangonnection@gmail.com
GEO:37.8591971;-122.2917693
X-APPLE-STRUCTURED-LOCATION;VALUE=URI;X-ADDRESS=The Beat 2560 Ninth Street Berkeley CA United States;X-APPLE-RADIUS=500;X-TITLE=2560 Ninth Street:geo:-122.2917693,37.8591971
END:VEVENT
BEGIN:VEVENT
DTSTART;TZID=America/Los_Angeles:20250826T200000
DTEND;TZID=America/Los_Angeles:20250827T000000
DTSTAMP:20260421T150954
CREATED:20250729T210134Z
LAST-MODIFIED:20250729T210134Z
UID:10012227-1756238400-1756252800@sftangowith.us
SUMMARY:El Valenciano Milonga w/ DJ Felipe
DESCRIPTION:8:00pm – Zero Hour\n$20\n$15 (w/ full-time college student ID)
URL:https://sftangowith.us/event/el-valenciano-milonga-25-36/
LOCATION:El Valenciano\, 1153 Valencia Street\, San Francisco\, CA\, United States
CATEGORIES:class,milonga,Recommended for Visitors
ATTACH;FMTTYPE=image/jpeg:https://sftangowith.us/wp-content/uploads/2023/08/FelipeAyanoFrench.jpg
GEO:37.7545379;-122.4205807
X-APPLE-STRUCTURED-LOCATION;VALUE=URI;X-ADDRESS=El Valenciano 1153 Valencia Street San Francisco CA United States;X-APPLE-RADIUS=500;X-TITLE=1153 Valencia Street:geo:-122.4205807,37.7545379
END:VEVENT
END:VCALENDAR