BEGIN:VCALENDAR
VERSION:2.0
PRODID:-//SF Tango With.Us - ECPv6.6.2//NONSGML v1.0//EN
CALSCALE:GREGORIAN
METHOD:PUBLISH
X-WR-CALNAME:SF Tango With.Us
X-ORIGINAL-URL:https://sftangowith.us
X-WR-CALDESC:Events for SF Tango With.Us
REFRESH-INTERVAL;VALUE=DURATION:PT1H
X-Robots-Tag:noindex
X-PUBLISHED-TTL:PT1H
BEGIN:VTIMEZONE
TZID:America/Los_Angeles
BEGIN:DAYLIGHT
TZOFFSETFROM:-0800
TZOFFSETTO:-0700
TZNAME:PDT
DTSTART:20250309T100000
END:DAYLIGHT
BEGIN:STANDARD
TZOFFSETFROM:-0700
TZOFFSETTO:-0800
TZNAME:PST
DTSTART:20251102T090000
END:STANDARD
END:VTIMEZONE
BEGIN:VEVENT
DTSTART;TZID=America/Los_Angeles:20251020T201500
DTEND;TZID=America/Los_Angeles:20251021T003000
DTSTAMP:20260419T083835
CREATED:20241110T225123Z
LAST-MODIFIED:20250824T032348Z
UID:10014173-1760991300-1761006600@sftangowith.us
SUMMARY:Monday Night Tango @ The Beat
DESCRIPTION:8:15-9:30p – Intermediate class\n9:30p-0:30a – Practica \nRegistration required for NEW DANCERS ONLY\n(if you haven’t attended Monday / Allnighter since 2021)\nhttps://tangonnection.wixsite.com/felipetango/beat
URL:https://sftangowith.us/event/monday-night-tango-the-beat-25-2/2025-10-20/
LOCATION:The Beat\, 2560 Ninth Street\, Berkeley\, CA\, United States
CATEGORIES:class,milonga,practica,Recommended for Visitors
ATTACH;FMTTYPE=image/jpeg:https://sftangowith.us/wp-content/uploads/2017/06/Felipe-Ayano-July30.jpg
ORGANIZER;CN="Felipe and Ayano":MAILTO:tangonnection@gmail.com
GEO:37.8591971;-122.2917693
X-APPLE-STRUCTURED-LOCATION;VALUE=URI;X-ADDRESS=The Beat 2560 Ninth Street Berkeley CA United States;X-APPLE-RADIUS=500;X-TITLE=2560 Ninth Street:geo:-122.2917693,37.8591971
END:VEVENT
BEGIN:VEVENT
DTSTART;TZID=America/Los_Angeles:20251025T200000
DTEND;TZID=America/Los_Angeles:20251026T030000
DTSTAMP:20260419T083835
CREATED:20251013T054030Z
LAST-MODIFIED:20251013T054031Z
UID:10012739-1761422400-1761447600@sftangowith.us
SUMMARY:All Night Milonga @ The Beat w/ Helena Eriksen Class (DJ Yuki)
DESCRIPTION:We’ll provide refreshments throughout the night. You’re also welcome to bring snacks to share. \n8:00 – 9:00 Tango class with Guest teacher Helena Eriksen\n9:00 – 3:00a Milonga with Guest DJ Yuki Chavez \nClass+Milonga $40-50 sliding scale (we appreciate your extra support)\nMilonga only $25-35 sliding scale (we appreciate your extra support) \nCash accepted at the door \nMasks not required.Registration is required for first time attendees since 2021.Registration linkhttps://tangonnection.wixsite.com/felipetango/beat \nMore details:\nhttps://www.facebook.com/groups/587339038104024
URL:https://sftangowith.us/event/all-night-milonga-the-beat-25-10/
LOCATION:The Beat\, 2560 Ninth Street\, Berkeley\, CA\, United States
CATEGORIES:all-nighter,milonga,Recommended for Visitors
ATTACH;FMTTYPE=image/jpeg:https://sftangowith.us/wp-content/uploads/2017/06/AllNighter-TheBeat.jpg
GEO:37.8591971;-122.2917693
X-APPLE-STRUCTURED-LOCATION;VALUE=URI;X-ADDRESS=The Beat 2560 Ninth Street Berkeley CA United States;X-APPLE-RADIUS=500;X-TITLE=2560 Ninth Street:geo:-122.2917693,37.8591971
END:VEVENT
END:VCALENDAR