BEGIN:VCALENDAR
VERSION:2.0
PRODID:-//SF Tango With.Us - ECPv6.6.2//NONSGML v1.0//EN
CALSCALE:GREGORIAN
METHOD:PUBLISH
X-ORIGINAL-URL:https://sftangowith.us
X-WR-CALDESC:Events for SF Tango With.Us
REFRESH-INTERVAL;VALUE=DURATION:PT1H
X-Robots-Tag:noindex
X-PUBLISHED-TTL:PT1H
BEGIN:VTIMEZONE
TZID:America/Los_Angeles
BEGIN:DAYLIGHT
TZOFFSETFROM:-0800
TZOFFSETTO:-0700
TZNAME:PDT
DTSTART:20250309T100000
END:DAYLIGHT
BEGIN:STANDARD
TZOFFSETFROM:-0700
TZOFFSETTO:-0800
TZNAME:PST
DTSTART:20251102T090000
END:STANDARD
END:VTIMEZONE
BEGIN:VEVENT
DTSTART;TZID=America/Los_Angeles:20250921T190000
DTEND;TZID=America/Los_Angeles:20250921T230000
DTSTAMP:20260420T213435
CREATED:20250915T232518Z
LAST-MODIFIED:20250915T232519Z
UID:10015824-1758481200-1758495600@sftangowith.us
SUMMARY:Milonga Rubia w/ Filipeli Brothers Workshop (DJ Michael Arntz)
DESCRIPTION:We are happy to announce that the Brothers Filipelii will be teaching and performing tonight!\nThis is a twice a Month Milonga held at Just Dance Ballroom in Oakland\, California and hosted by Lisette Perelle. \nThere is a different DJ for each event. The DJ for 9/21/25 is Michael Arntz.\nThere is plenty of free parking in front and behind the building with a security guard on duty.\nEntry fee is $20. Cash only. \n7:00 – 8:00 Milongeuro Step: Dancing with mirrored hips.\n7:00 – 11:00 Milinga and performance \n$25.00 Class -Cash only\n$25.00 Milonga-Cash only \nB.Y.O.B encouraged as well as bringing a snack to share with others.\nThis is a welcoming\, safe environment and is LGBTQ+ friendly.\nSee you on the dance floor!
URL:https://sftangowith.us/event/milonga-rubia-just-dance-ballroom-5-3-3/
LOCATION:Just Dance Ballroom\, 2500 Embarcadero\, Oakland\, CA\, United States
CATEGORIES:milonga
ATTACH;FMTTYPE=image/jpeg:https://sftangowith.us/wp-content/uploads/2021/06/Los-Twins.jpg
GEO:37.7757272;-122.2395977
X-APPLE-STRUCTURED-LOCATION;VALUE=URI;X-ADDRESS=Just Dance Ballroom 2500 Embarcadero Oakland CA United States;X-APPLE-RADIUS=500;X-TITLE=2500 Embarcadero:geo:-122.2395977,37.7757272
END:VEVENT
END:VCALENDAR