BEGIN:VCALENDAR
VERSION:2.0
PRODID:-//SF Tango With.Us - ECPv6.6.2//NONSGML v1.0//EN
CALSCALE:GREGORIAN
METHOD:PUBLISH
X-WR-CALNAME:SF Tango With.Us
X-ORIGINAL-URL:https://sftangowith.us
X-WR-CALDESC:Events for SF Tango With.Us
REFRESH-INTERVAL;VALUE=DURATION:PT1H
X-Robots-Tag:noindex
X-PUBLISHED-TTL:PT1H
BEGIN:VTIMEZONE
TZID:America/Los_Angeles
BEGIN:DAYLIGHT
TZOFFSETFROM:-0800
TZOFFSETTO:-0700
TZNAME:PDT
DTSTART:20240310T100000
END:DAYLIGHT
BEGIN:STANDARD
TZOFFSETFROM:-0700
TZOFFSETTO:-0800
TZNAME:PST
DTSTART:20241103T090000
END:STANDARD
END:VTIMEZONE
BEGIN:VEVENT
DTSTART;TZID=America/Los_Angeles:20240511T200000
DTEND;TZID=America/Los_Angeles:20240512T000000
DTSTAMP:20260422T140625
CREATED:20240422T172922Z
LAST-MODIFIED:20240501T225921Z
UID:10012561-1715457600-1715472000@sftangowith.us
SUMMARY:Las Chicas del Tango @ The Dome (Live Music)
DESCRIPTION:Sumi Lee and her ALL-Star ensemble\, Las Chicas del Tango at the Dome Underground Nightclub. Piazzolla Quintet sit-down concert at 8:30 sharp! Dance music until midnight by Las Chicas del Tango. DJ music between live sets. \n8:00 – doors open\n8:30 – Sit – down concert\n9:30 – Midnight – live dance music \n$25 suggested donation \nEmail tangodome@nullgmail.com for reservations.
URL:https://sftangowith.us/event/las-chicas-del-tango-the-dome/
LOCATION:The Dome\, 951 62nd St\, Oakland\, CA\, United States
CATEGORIES:milonga,music (live),Recommended for Visitors
ATTACH;FMTTYPE=image/jpeg:https://sftangowith.us/wp-content/uploads/2024/04/Sumi_Lee_Collective_1400.jpg
GEO:37.8459067;-122.2777176
X-APPLE-STRUCTURED-LOCATION;VALUE=URI;X-ADDRESS=The Dome 951 62nd St Oakland CA United States;X-APPLE-RADIUS=500;X-TITLE=951 62nd St:geo:-122.2777176,37.8459067
END:VEVENT
BEGIN:VEVENT
DTSTART;TZID=America/Los_Angeles:20240512T180000
DTEND;TZID=America/Los_Angeles:20240512T193000
DTSTAMP:20260422T140625
CREATED:20240430T221041Z
LAST-MODIFIED:20240501T230313Z
UID:10012629-1715536800-1715542200@sftangowith.us
SUMMARY:New Sounds in Tango w/ Sumi Lee Collective (Live Music)
DESCRIPTION:New Directions in Tango \nSan Francisco based Tango pianist Sumi Lee and her colleagues will present original compositions and nuevo tango pieces\, taking the audience on a musical journey from the mid-20th century to the present. Sumi will also premiere her solo piece\, Appa\, which is dedicated to her late father. An excellent opportunity to discover the new wave of contemporary tango music and experience these young musicians taking tango in exciting groundbreaking directions.
URL:https://sftangowith.us/event/new-sounds-in-tango-w-sumi-lee-collective-live-music/
LOCATION:Community Music Center\, 544 Capp St.\, San Francisco\, CA\, 94110\, United States
CATEGORIES:music (live)
ATTACH;FMTTYPE=image/jpeg:https://sftangowith.us/wp-content/uploads/2024/04/Sumi_Lee_Collective_1400.jpg
GEO:37.7579453;-122.4182226
X-APPLE-STRUCTURED-LOCATION;VALUE=URI;X-ADDRESS=Community Music Center 544 Capp St. San Francisco CA 94110 United States;X-APPLE-RADIUS=500;X-TITLE=544 Capp St.:geo:-122.4182226,37.7579453
END:VEVENT
END:VCALENDAR