BEGIN:VCALENDAR
VERSION:2.0
PRODID:-//SF Tango With.Us - ECPv6.6.2//NONSGML v1.0//EN
CALSCALE:GREGORIAN
METHOD:PUBLISH
X-WR-CALNAME:SF Tango With.Us
X-ORIGINAL-URL:https://sftangowith.us
X-WR-CALDESC:Events for SF Tango With.Us
REFRESH-INTERVAL;VALUE=DURATION:PT1H
X-Robots-Tag:noindex
X-PUBLISHED-TTL:PT1H
BEGIN:VTIMEZONE
TZID:America/Los_Angeles
BEGIN:DAYLIGHT
TZOFFSETFROM:-0800
TZOFFSETTO:-0700
TZNAME:PDT
DTSTART:20250309T100000
END:DAYLIGHT
BEGIN:STANDARD
TZOFFSETFROM:-0700
TZOFFSETTO:-0800
TZNAME:PST
DTSTART:20251102T090000
END:STANDARD
END:VTIMEZONE
BEGIN:VEVENT
DTSTART;TZID=America/Los_Angeles:20250808T200000
DTEND;TZID=America/Los_Angeles:20250809T000000
DTSTAMP:20260422T145741
CREATED:20250715T215233Z
LAST-MODIFIED:20250801T173703Z
UID:10015754-1754683200-1754697600@sftangowith.us
SUMMARY:Winnie and Julian @ The Dome
DESCRIPTION:Winnie and Julian return to the Dome with an amazing night of Julian Peralta’s original compositions for Sextet. Wildly fun tango dance music until midnight by Tango with Winnie Sextet with special guest artists. \n8:00 – Doors Open\n8:30 – sit – down concert\n9:30 – Midnight Live Tango Dance Music milonga \n$25 suggested donation
URL:https://sftangowith.us/event/winnie-and-julian-the-dome/
LOCATION:CA
CATEGORIES:milonga,music (live)
ATTACH;FMTTYPE=image/jpeg:https://sftangowith.us/wp-content/uploads/2025/07/IMG_6219.jpeg
END:VEVENT
END:VCALENDAR