BEGIN:VCALENDAR
VERSION:2.0
PRODID:-//SF Tango With.Us - ECPv6.6.2//NONSGML v1.0//EN
CALSCALE:GREGORIAN
METHOD:PUBLISH
X-ORIGINAL-URL:https://sftangowith.us
X-WR-CALDESC:Events for SF Tango With.Us
REFRESH-INTERVAL;VALUE=DURATION:PT1H
X-Robots-Tag:noindex
X-PUBLISHED-TTL:PT1H
BEGIN:VTIMEZONE
TZID:America/Los_Angeles
BEGIN:DAYLIGHT
TZOFFSETFROM:-0800
TZOFFSETTO:-0700
TZNAME:PDT
DTSTART:20250309T100000
END:DAYLIGHT
BEGIN:STANDARD
TZOFFSETFROM:-0700
TZOFFSETTO:-0800
TZNAME:PST
DTSTART:20251102T090000
END:STANDARD
END:VTIMEZONE
BEGIN:VEVENT
DTSTART;TZID=America/Los_Angeles:20250812T200000
DTEND;TZID=America/Los_Angeles:20250813T000000
DTSTAMP:20260422T231641
CREATED:20250715T213723Z
LAST-MODIFIED:20250729T210027Z
UID:10012225-1755028800-1755043200@sftangowith.us
SUMMARY:El Valenciano Milonga w/ Winnie Cheung Tango Quartet (Live Music)
DESCRIPTION:Live Tango Music – Winnie Cheung Tango Quartet\nMilonga-Tango Social 8pm-Zero Hour w/ DJ Glenn \nLive Music around 9:30-10:30pm \nAdmission $25\n$20 if you order dinner\n$15 w/ full-time college student i.d.
URL:https://sftangowith.us/event/el-valenciano-milonga-25-33/
LOCATION:El Valenciano\, 1153 Valencia Street\, San Francisco\, CA\, United States
CATEGORIES:class,milonga,music (live),Recommended for Visitors
ATTACH;FMTTYPE=image/jpeg:https://sftangowith.us/wp-content/uploads/2024/11/Winnie-Collective-2025-e1752793826481.jpg
GEO:37.7545379;-122.4205807
X-APPLE-STRUCTURED-LOCATION;VALUE=URI;X-ADDRESS=El Valenciano 1153 Valencia Street San Francisco CA United States;X-APPLE-RADIUS=500;X-TITLE=1153 Valencia Street:geo:-122.4205807,37.7545379
END:VEVENT
BEGIN:VEVENT
DTSTART;TZID=America/Los_Angeles:20250816T193000
DTEND;TZID=America/Los_Angeles:20250816T210000
DTSTAMP:20260422T231641
CREATED:20250715T213925Z
LAST-MODIFIED:20250809T224059Z
UID:10015752-1755372600-1755378000@sftangowith.us
SUMMARY:Tango with Winnie Collective @ Red Poppy House (Live Music)
DESCRIPTION:This program is a celebration of a two-year collaboration with tango musicians in Taiwan – Winnie is super excited to share the stage with her musical brother in combat\, Bandoneonista Lee\, this time in the US! Their combined love and knowledge of tango have knitted together their local communities\, so don’t miss these two powerhouses joining forces! Tango classics of Troilo\, Pugliese\, and Gobbi will be performed alongside tango composers of today by the Tango with Winnie Collective with special guest Teresa Tam. \nFeaturing:\nTeresa Tam – Voice\nWinnie Cheung – Piano\nJanice Lee – Violin\nC.C. Lee – Bandoneón
URL:https://sftangowith.us/event/tango-with-winnie-collective-red-poppy-house-live-music/
LOCATION:CA
CATEGORIES:music (live)
ATTACH;FMTTYPE=image/jpeg:https://sftangowith.us/wp-content/uploads/2024/11/Winnie-Collective-2025-e1752793826481.jpg
END:VEVENT
END:VCALENDAR