BEGIN:VCALENDAR
VERSION:2.0
PRODID:-//SF Tango With.Us - ECPv6.6.2//NONSGML v1.0//EN
CALSCALE:GREGORIAN
METHOD:PUBLISH
X-ORIGINAL-URL:https://sftangowith.us
X-WR-CALDESC:Events for SF Tango With.Us
REFRESH-INTERVAL;VALUE=DURATION:PT1H
X-Robots-Tag:noindex
X-PUBLISHED-TTL:PT1H
BEGIN:VTIMEZONE
TZID:America/Los_Angeles
BEGIN:DAYLIGHT
TZOFFSETFROM:-0800
TZOFFSETTO:-0700
TZNAME:PDT
DTSTART:20230312T100000
END:DAYLIGHT
BEGIN:STANDARD
TZOFFSETFROM:-0700
TZOFFSETTO:-0800
TZNAME:PST
DTSTART:20231105T090000
END:STANDARD
END:VTIMEZONE
BEGIN:VEVENT
DTSTART;TZID=America/Los_Angeles:20231005T190000
DTEND;TZID=America/Los_Angeles:20231006T000000
DTSTAMP:20260422T003855
CREATED:20230927T013805Z
LAST-MODIFIED:20230927T013805Z
UID:10009449-1696532400-1696550400@sftangowith.us
SUMMARY:Allegro Milonga w/ Areil & Yesica Esquival Wksp (DJ Michael Arntz)
DESCRIPTION:This week we welcome Yesic & Areil to teach a workshop + performances during the Milonga. \n7:00 – 7:30 Beg Class\n7:30 – 9:00 Workshop with Yesica & Ariel\n9:00 – 12:00a Milonga with DJ Michael Arntz \nClass + Milonga=$25\nMilonga + Shows: $15 \nMilonga with DJ Michael with his new collection of tandas\, and a huge dance floor. \nPlenty of free parking! Allegro entrance is next to the Grocery Outlet entrance.
URL:https://sftangowith.us/event/allegro-milonga-w-areil-yesica-esquival-wksp-dj-michael-arntz/
LOCATION:Allegro Ballroom\, 12012 San Pablo Avenue\, Richmond\, CA\, 94805\, United States
CATEGORIES:milonga,workshop
ATTACH;FMTTYPE=image/jpeg:https://sftangowith.us/wp-content/uploads/2022/11/Yesica-Esquivel-Ariel-Leguizamon.jpg
GEO:37.9312035;-122.3224852
X-APPLE-STRUCTURED-LOCATION;VALUE=URI;X-ADDRESS=Allegro Ballroom 12012 San Pablo Avenue Richmond CA 94805 United States;X-APPLE-RADIUS=500;X-TITLE=12012 San Pablo Avenue:geo:-122.3224852,37.9312035
END:VEVENT
END:VCALENDAR