BEGIN:VCALENDAR
VERSION:2.0
PRODID:-//SF Tango With.Us - ECPv6.6.2//NONSGML v1.0//EN
CALSCALE:GREGORIAN
METHOD:PUBLISH
X-WR-CALNAME:SF Tango With.Us
X-ORIGINAL-URL:https://sftangowith.us
X-WR-CALDESC:Events for SF Tango With.Us
REFRESH-INTERVAL;VALUE=DURATION:PT1H
X-Robots-Tag:noindex
X-PUBLISHED-TTL:PT1H
BEGIN:VTIMEZONE
TZID:America/Los_Angeles
BEGIN:DAYLIGHT
TZOFFSETFROM:-0800
TZOFFSETTO:-0700
TZNAME:PDT
DTSTART:20230312T100000
END:DAYLIGHT
BEGIN:STANDARD
TZOFFSETFROM:-0700
TZOFFSETTO:-0800
TZNAME:PST
DTSTART:20231105T090000
END:STANDARD
END:VTIMEZONE
BEGIN:VEVENT
DTSTART;TZID=America/Los_Angeles:20230523T203000
DTEND;TZID=America/Los_Angeles:20230524T000000
DTSTAMP:20260422T195522
CREATED:20230516T000323Z
LAST-MODIFIED:20230522T084755Z
UID:10007921-1684873800-1684886400@sftangowith.us
SUMMARY:El Valenciano Milonga w/ Ariel & Yesica Workshop (DJ Grigor)
DESCRIPTION:8pm – 9pm – Tango Workshop with Ariel Leguizamon & Yesica Esquivel \n9:00 pm – Zero Hour – Milonga \nEach Workshop only $25\nMilonga only $20\nWorkshop & Milonga $40
URL:https://sftangowith.us/event/el-valenciano-milonga-23-23/
LOCATION:El Valenciano\, 1153 Valencia Street\, San Francisco\, CA\, United States
CATEGORIES:milonga,Recommended for Visitors,workshop
ATTACH;FMTTYPE=image/jpeg:https://sftangowith.us/wp-content/uploads/2022/11/Yesica-Esquivel-Ariel-Leguizamon.jpg
GEO:37.7545379;-122.4205807
X-APPLE-STRUCTURED-LOCATION;VALUE=URI;X-ADDRESS=El Valenciano 1153 Valencia Street San Francisco CA United States;X-APPLE-RADIUS=500;X-TITLE=1153 Valencia Street:geo:-122.4205807,37.7545379
END:VEVENT
BEGIN:VEVENT
DTSTART;TZID=America/Los_Angeles:20230525T190000
DTEND;TZID=America/Los_Angeles:20230526T000000
DTSTAMP:20260422T195522
CREATED:20230502T013336Z
LAST-MODIFIED:20230502T013337Z
UID:10007733-1685041200-1685059200@sftangowith.us
SUMMARY:Milonga Malevaje w/ Yesica Esquivel & Ariel Leguizamon (DJ Olga)
DESCRIPTION:Every Thursday from 8:00 to 12:00\nWhen Class. from 7:00 to 8:00 \nClass: Yesica Esquivel & Ariel Leguizamon “Origin & Mechanics of Colgadas and how to use them” \nDJ: Olga Bogatova \nMilonga Only $20\nClass Only $ ?\nIf there is a class:\nBoth. $ ? \nProof of vaccination Required for newcomers\nMasks Highly Recommended\nBar is open! No outside drinks allowed\, please.
URL:https://sftangowith.us/event/milonga-malevaje-19/
LOCATION:Verdi Club\, 2424 Mariposa St\, San Francisco\, CA\, United States
CATEGORIES:milonga,Recommended for Visitors,workshop
ATTACH;FMTTYPE=image/jpeg:https://sftangowith.us/wp-content/uploads/2022/11/Yesica-Esquivel-Ariel-Leguizamon.jpg
GEO:37.7634058;-122.4079386
X-APPLE-STRUCTURED-LOCATION;VALUE=URI;X-ADDRESS=Verdi Club 2424 Mariposa St San Francisco CA United States;X-APPLE-RADIUS=500;X-TITLE=2424 Mariposa St:geo:-122.4079386,37.7634058
END:VEVENT
BEGIN:VEVENT
DTSTART;TZID=America/Los_Angeles:20230527T210000
DTEND;TZID=America/Los_Angeles:20230528T020000
DTSTAMP:20260422T195522
CREATED:20230502T013603Z
LAST-MODIFIED:20230516T000550Z
UID:10008126-1685221200-1685239200@sftangowith.us
SUMMARY:All Night Milonga "mini" w/ Yesica Esquivel & Ariel Leguizamón
DESCRIPTION:8-9pm Chacarera Practica with Yesica Esquivel & Ariel Leguizamón\n9pm – 2am Milonga with special guest DJ Jonas & Xiaomin\n(11:30pm chacarera break) \nREGISTRATION and advance payment is required to secure your spot. \nPrice: Sliding scale $20-25 \nHigh Quality Mask (KF94/N95/KN95)\, Vaccination+Booster required.\nNo class\, no food\, just the best music for your enjoyment. \nBring your own water bottle.
URL:https://sftangowith.us/event/all-nighter-mini-23-6/
LOCATION:The Beat\, 2560 Ninth Street\, Berkeley\, CA\, United States
CATEGORIES:milonga,workshop
ATTACH;FMTTYPE=image/jpeg:https://sftangowith.us/wp-content/uploads/2022/11/Yesica-Esquivel-Ariel-Leguizamon.jpg
GEO:37.8591971;-122.2917693
X-APPLE-STRUCTURED-LOCATION;VALUE=URI;X-ADDRESS=The Beat 2560 Ninth Street Berkeley CA United States;X-APPLE-RADIUS=500;X-TITLE=2560 Ninth Street:geo:-122.2917693,37.8591971
END:VEVENT
END:VCALENDAR