BEGIN:VCALENDAR
VERSION:2.0
PRODID:-//SF Tango With.Us - ECPv6.6.2//NONSGML v1.0//EN
CALSCALE:GREGORIAN
METHOD:PUBLISH
X-WR-CALNAME:SF Tango With.Us
X-ORIGINAL-URL:https://sftangowith.us
X-WR-CALDESC:Events for SF Tango With.Us
REFRESH-INTERVAL;VALUE=DURATION:PT1H
X-Robots-Tag:noindex
X-PUBLISHED-TTL:PT1H
BEGIN:VTIMEZONE
TZID:America/Los_Angeles
BEGIN:DAYLIGHT
TZOFFSETFROM:-0800
TZOFFSETTO:-0700
TZNAME:PDT
DTSTART:20230312T100000
END:DAYLIGHT
BEGIN:STANDARD
TZOFFSETFROM:-0700
TZOFFSETTO:-0800
TZNAME:PST
DTSTART:20231105T090000
END:STANDARD
END:VTIMEZONE
BEGIN:VEVENT
DTSTART;TZID=America/Los_Angeles:20230928T200000
DTEND;TZID=America/Los_Angeles:20230929T000000
DTSTAMP:20260422T152631
CREATED:20230905T092333Z
LAST-MODIFIED:20231010T212148Z
UID:10007751-1695931200-1695945600@sftangowith.us
SUMMARY:Milonga Malevaje w/ Yesica & Ariel Esquivel Workshop
DESCRIPTION:Class 7pm – 8:00 pm with Yesica and Ariel Esquivel \nMilonga 8:00 – 12:00am \nMilonga only $20\nClass only $25\nBoth. $40 \nBar is open! No outside drinks allowed\, please.
URL:https://sftangowith.us/event/milonga-malevaje-37/
LOCATION:Verdi Club\, 2424 Mariposa St\, San Francisco\, CA\, United States
CATEGORIES:milonga,Recommended for Visitors,workshop
ATTACH;FMTTYPE=image/jpeg:https://sftangowith.us/wp-content/uploads/2022/11/Yesica-Esquivel-Ariel-Leguizamon.jpg
GEO:37.7634058;-122.4079386
X-APPLE-STRUCTURED-LOCATION;VALUE=URI;X-ADDRESS=Verdi Club 2424 Mariposa St San Francisco CA United States;X-APPLE-RADIUS=500;X-TITLE=2424 Mariposa St:geo:-122.4079386,37.7634058
END:VEVENT
BEGIN:VEVENT
DTSTART;TZID=America/Los_Angeles:20230929T203000
DTEND;TZID=America/Los_Angeles:20230930T003000
DTSTAMP:20260422T152631
CREATED:20230902T095202Z
LAST-MODIFIED:20230913T225805Z
UID:10008044-1696019400-1696033800@sftangowith.us
SUMMARY:La Milonga Genesis w/ Yesica & Ariel Leguizamon (DJ Jennifer)
DESCRIPTION:8:30-9:30pm – Tango Workshop with Ariel Leguizamon & Yesica Esquivel \n9:30pm-12:30am – MIlonga/Tango Social\nDJ Jennifer Olson \nEach Workshop only $25\nMilonga only $20\nWorkshop & Milonga $40 \n– Discounts offered for those in financial hardship\nemail: tangosaborsf@nullgmail.com \nPLEASE DO NOT ATTEND IF YOU ARE NOT FEELING WELL
URL:https://sftangowith.us/event/la-milonga-genesis-23-39/
LOCATION:Genesis Dance\, 404 Clement St.\, San Francisco\, CA
CATEGORIES:milonga,Recommended for Visitors
ATTACH;FMTTYPE=image/jpeg:https://sftangowith.us/wp-content/uploads/2019/05/Yesica-Esquivel-Y-Ariel-Leguizamón-Federico-Paleo.jpg
GEO:37.7832315;-122.4636431
X-APPLE-STRUCTURED-LOCATION;VALUE=URI;X-ADDRESS=Genesis Dance 404 Clement St. San Francisco CA;X-APPLE-RADIUS=500;X-TITLE=404 Clement St.:geo:-122.4636431,37.7832315
END:VEVENT
END:VCALENDAR