BEGIN:VCALENDAR
VERSION:2.0
PRODID:-//SF Tango With.Us - ECPv6.6.2//NONSGML v1.0//EN
CALSCALE:GREGORIAN
METHOD:PUBLISH
X-ORIGINAL-URL:https://sftangowith.us
X-WR-CALDESC:Events for SF Tango With.Us
REFRESH-INTERVAL;VALUE=DURATION:PT1H
X-Robots-Tag:noindex
X-PUBLISHED-TTL:PT1H
BEGIN:VTIMEZONE
TZID:America/Los_Angeles
BEGIN:DAYLIGHT
TZOFFSETFROM:-0800
TZOFFSETTO:-0700
TZNAME:PDT
DTSTART:20240310T100000
END:DAYLIGHT
BEGIN:STANDARD
TZOFFSETFROM:-0700
TZOFFSETTO:-0800
TZNAME:PST
DTSTART:20241103T090000
END:STANDARD
END:VTIMEZONE
BEGIN:VEVENT
DTSTART;TZID=America/Los_Angeles:20240406T193000
DTEND;TZID=America/Los_Angeles:20240407T013000
DTSTAMP:20260421T120612
CREATED:20240312T095016Z
LAST-MODIFIED:20240325T162244Z
UID:10011625-1712431800-1712453400@sftangowith.us
SUMMARY:Vecher Tango w/ Yesica Esquivel & Ariel Leguizamon Wrkshp (DJ Felipe)
DESCRIPTION:Saturday\, Apr. 6\n7:30 – 8:45 INT/ADV Workshop w/ Yesica Esquivel y Ariel Leguizamon\, topic TBA\n9:00 – 1:30a Milonga\n11:00 Grand Performance by Yesica Esquivel y Ariel Leguizamon \n$25 Milonga w/ Grand Show by Yesica Esquivel y Ariel Leguizamon\n$ Workshop by Yesica Esquivel y Ariel Leguizamon\nMilonga and workshop priced separately\n$10 after Performance
URL:https://sftangowith.us/event/vecher-tango-24-2-2/
LOCATION:Russian Center of San Francisco\, 2460 Sutter St\, San Francisco\, CA\, United States
CATEGORIES:class,milonga
ATTACH;FMTTYPE=image/jpeg:https://sftangowith.us/wp-content/uploads/2019/05/Yesica-Esquivel-Y-Ariel-Leguizamón-Federico-Paleo.jpg
GEO:37.7853848;-122.440907
X-APPLE-STRUCTURED-LOCATION;VALUE=URI;X-ADDRESS=Russian Center of San Francisco 2460 Sutter St San Francisco CA United States;X-APPLE-RADIUS=500;X-TITLE=2460 Sutter St:geo:-122.440907,37.7853848
END:VEVENT
BEGIN:VEVENT
DTSTART;TZID=America/Los_Angeles:20240409T200000
DTEND;TZID=America/Los_Angeles:20240410T000000
DTSTAMP:20260421T120612
CREATED:20240330T032147Z
LAST-MODIFIED:20240330T032450Z
UID:10012158-1712692800-1712707200@sftangowith.us
SUMMARY:El Valenciano Milonga w/ Ariel & Yesica Workshop (DJ Ayano)
DESCRIPTION:Tango Workshop with Ariel Leguizamon & Yesica Esquivel \nTango Workshop 8-9pm\nTopic: Mechanics for using back sacadas for both roles \nMIlonga/Tango Social 9pm-12:30am w/ DJ Ayano \nEach Workshop only $25\nMilonga only $20\nWorkshop & Milonga $40
URL:https://sftangowith.us/event/el-valenciano-milonga-23-70/
LOCATION:El Valenciano\, 1153 Valencia Street\, San Francisco\, CA\, United States
CATEGORIES:class,milonga,Recommended for Visitors,workshop
ATTACH;FMTTYPE=image/jpeg:https://sftangowith.us/wp-content/uploads/2019/05/Yesica-Esquivel-Y-Ariel-Leguizamón-Federico-Paleo.jpg
GEO:37.7545379;-122.4205807
X-APPLE-STRUCTURED-LOCATION;VALUE=URI;X-ADDRESS=El Valenciano 1153 Valencia Street San Francisco CA United States;X-APPLE-RADIUS=500;X-TITLE=1153 Valencia Street:geo:-122.4205807,37.7545379
END:VEVENT
END:VCALENDAR