BEGIN:VCALENDAR
VERSION:2.0
PRODID:-//SF Tango With.Us - ECPv6.6.2//NONSGML v1.0//EN
CALSCALE:GREGORIAN
METHOD:PUBLISH
X-WR-CALNAME:SF Tango With.Us
X-ORIGINAL-URL:https://sftangowith.us
X-WR-CALDESC:Events for SF Tango With.Us
REFRESH-INTERVAL;VALUE=DURATION:PT1H
X-Robots-Tag:noindex
X-PUBLISHED-TTL:PT1H
BEGIN:VTIMEZONE
TZID:America/Los_Angeles
BEGIN:DAYLIGHT
TZOFFSETFROM:-0800
TZOFFSETTO:-0700
TZNAME:PDT
DTSTART:20230312T100000
END:DAYLIGHT
BEGIN:STANDARD
TZOFFSETFROM:-0700
TZOFFSETTO:-0800
TZNAME:PST
DTSTART:20231105T090000
END:STANDARD
END:VTIMEZONE
BEGIN:VEVENT
DTSTART;TZID=America/Los_Angeles:20230715T210000
DTEND;TZID=America/Los_Angeles:20230716T013000
DTSTAMP:20260423T103144
CREATED:20230707T011107Z
LAST-MODIFIED:20230721T203416Z
UID:10009066-1689454800-1689471000@sftangowith.us
SUMMARY:Vecher Tango w/ DJ Ashvin
DESCRIPTION:8:00 – 9:00 Basics Series Class/Workshop\n9:00 – 1:30a Milonga \n$20 Milonga only\n$25 Class + Milonga\n$10 Class only\n$10 after Midnight\nMasks highly recommended \nAwesome sound system\, silk smooth floor\, Art Deco ambiance\, great space for dancing! Basics Series class with Glenn Corteza prior to milonga. Full licensed bar with zakuski (light snacks). No outside alcohol please. Bar opens at 9pm. Small table reservations for a party of 2 – 3\, large table reservation for 4- 8. \nvechertango@nullgmail.com
URL:https://sftangowith.us/event/vecher-tango-5-6/
LOCATION:Russian Center of San Francisco\, 2460 Sutter St\, San Francisco\, CA\, United States
CATEGORIES:class,milonga
GEO:37.7853848;-122.440907
X-APPLE-STRUCTURED-LOCATION;VALUE=URI;X-ADDRESS=Russian Center of San Francisco 2460 Sutter St San Francisco CA United States;X-APPLE-RADIUS=500;X-TITLE=2460 Sutter St:geo:-122.440907,37.7853848
END:VEVENT
BEGIN:VEVENT
DTSTART;TZID=America/Los_Angeles:20230716T190000
DTEND;TZID=America/Los_Angeles:20230716T230000
DTSTAMP:20260423T103144
CREATED:20221222T010553Z
LAST-MODIFIED:20240530T182327Z
UID:10008444-1689534000-1689548400@sftangowith.us
SUMMARY:Milonga Rubia al Sur
DESCRIPTION:This Milonga is held every 1st & 3rd Sunday of the month at Just Dance Ballroom in Oakland\, California. \nHosted by Lisette Perelle. There is a different DJ for each event. \nThere is plenty of free parking in front and behind the building with a security guard on duty. \nEntry fee is $20.00 cash only. \nThis is currently a mask optional Milonga.\nB.Y.O.B. Encouraged as well as snacks to share.\nThis is a welcoming and safe environment and is LGBTQ+ friendly.
URL:https://sftangowith.us/event/milonga-rubia-al-sur-3/2023-07-16/
LOCATION:Just Dance Ballroom\, 2500 Embarcadero\, Oakland\, CA\, United States
CATEGORIES:milonga
ATTACH;FMTTYPE=image/jpeg:https://sftangowith.us/wp-content/uploads/2021/07/Milonga-Rubia-al-Sur.jpg
GEO:37.7757272;-122.2395977
X-APPLE-STRUCTURED-LOCATION;VALUE=URI;X-ADDRESS=Just Dance Ballroom 2500 Embarcadero Oakland CA United States;X-APPLE-RADIUS=500;X-TITLE=2500 Embarcadero:geo:-122.2395977,37.7757272
END:VEVENT
BEGIN:VEVENT
DTSTART;TZID=America/Los_Angeles:20230716T190000
DTEND;TZID=America/Los_Angeles:20230717T000000
DTSTAMP:20260423T103144
CREATED:20230703T090346Z
LAST-MODIFIED:20230703T090347Z
UID:10008167-1689534000-1689552000@sftangowith.us
SUMMARY:Milonga @ Alberto's w/ DJ Kostas
DESCRIPTION:7pm – Midnight \nEntrance $15 \n736 W. Dana\, Mountain View\,  California 94041 \nFULLY VACCINATED DANCERS ONLY.\nMask optional if you’re up to date with vaccine and booster.\nPlease show vaccination card\, or phone image.\nNo entry without proof of vaccination. \nNo communal food or water – bring your own water (but no alcohol).\nLicensed bar will be open all evening.
URL:https://sftangowith.us/event/milonga-albertos-23-30/
LOCATION:Alberto’s Night Club\, 736 W. Dana St.\, Mountain View\, CA\, United States
CATEGORIES:milonga,Recommended for Visitors
ATTACH;FMTTYPE=image/jpeg:https://sftangowith.us/wp-content/uploads/2022/11/Kostas-DJ.jpg
GEO:37.3923683;-122.0789214
X-APPLE-STRUCTURED-LOCATION;VALUE=URI;X-ADDRESS=Alberto’s Night Club 736 W. Dana St. Mountain View CA United States;X-APPLE-RADIUS=500;X-TITLE=736 W. Dana St.:geo:-122.0789214,37.3923683
END:VEVENT
BEGIN:VEVENT
DTSTART;TZID=America/Los_Angeles:20230717T201500
DTEND;TZID=America/Los_Angeles:20230718T003000
DTSTAMP:20260423T103144
CREATED:20230715T221100Z
LAST-MODIFIED:20230715T221101Z
UID:10009054-1689624900-1689640200@sftangowith.us
SUMMARY:Monday Night Tango @ The Beat w/ DJ America
DESCRIPTION:8:15-9:30p – Intermediate class\n9:30p-0:30a – Practica \nMasks and up-to-date COVID vaccination are advised. \nRegistration is only required for *new* dancers who are attending for the first time since re-opening in 2021:\nwww.jonastango.com/jx-at-the-beat/ \nIf you don’t feel well\, please stay at home.\nWe will keep the room well-ventilated.\nStaying up to date with COVID-19 vaccines is highly recommended. Masks are advised.\nPlease let us know if you contract COVID-19 within 5 days of attending this event. We will notify the attendees. \nFor more details:\nhttps://www.facebook.com/groups/587339038104024 \n 
URL:https://sftangowith.us/event/monday-night-tango-the-beat-14-4/
LOCATION:The Beat\, 2560 Ninth Street\, Berkeley\, CA\, United States
CATEGORIES:class,milonga,practica,Recommended for Visitors
ATTACH;FMTTYPE=image/jpeg:https://sftangowith.us/wp-content/uploads/2021/06/Jonas-and-Xiaomin.jpg
ORGANIZER;CN="Felipe and Ayano":MAILTO:tangonnection@gmail.com
GEO:37.8591971;-122.2917693
X-APPLE-STRUCTURED-LOCATION;VALUE=URI;X-ADDRESS=The Beat 2560 Ninth Street Berkeley CA United States;X-APPLE-RADIUS=500;X-TITLE=2560 Ninth Street:geo:-122.2917693,37.8591971
END:VEVENT
BEGIN:VEVENT
DTSTART;TZID=America/Los_Angeles:20230718T203000
DTEND;TZID=America/Los_Angeles:20230719T000000
DTSTAMP:20260423T103144
CREATED:20230716T084328Z
LAST-MODIFIED:20230716T084328Z
UID:10007929-1689712200-1689724800@sftangowith.us
SUMMARY:El Valenciano Milonga w/ DJ Azriel
DESCRIPTION:8:30pm – Zero Hour\n$20\n$15 (w/ full-time college student ID)
URL:https://sftangowith.us/event/el-valenciano-milonga-23-30/
LOCATION:El Valenciano\, 1153 Valencia Street\, San Francisco\, CA\, United States
CATEGORIES:milonga,Recommended for Visitors
ATTACH;FMTTYPE=image/jpeg:https://sftangowith.us/wp-content/uploads/2017/07/El-Valenciano-e1543830832700.jpg
GEO:37.7545379;-122.4205807
X-APPLE-STRUCTURED-LOCATION;VALUE=URI;X-ADDRESS=El Valenciano 1153 Valencia Street San Francisco CA United States;X-APPLE-RADIUS=500;X-TITLE=1153 Valencia Street:geo:-122.4205807,37.7545379
END:VEVENT
BEGIN:VEVENT
DTSTART;TZID=America/Los_Angeles:20230719T190000
DTEND;TZID=America/Los_Angeles:20230719T220000
DTSTAMP:20260423T103144
CREATED:20221208T041116Z
LAST-MODIFIED:20240725T045147Z
UID:10008238-1689793200-1689804000@sftangowith.us
SUMMARY:Sunnyvale Practica @ The Moose Lodge
DESCRIPTION:We are all inclusive tango community of dedicated tango lovers .We come every Wednesday to work hard on improving our tango skills. Join us on this journey and enjoy welcoming environment and great music played by our DJ in residence Rene Quebec or a guest DJ. \n¡¡DO NOT: Double park\, block other cars\, block the fire lane\, park in disabled parking\, or in the front of the building!! \nAlternate parking locations: 1) Behind the building to the north at Fortinet or 2) one lot to the west at 901 Kifer.
URL:https://sftangowith.us/event/sunnyvale-practica-the-moose-lodge/2023-07-19/
LOCATION:Moose Lodge\, 922 Weddell Court\, Sunnyvale\, CA\, 94089\, United States
CATEGORIES:practica,Recommended for Visitors
GEO:37.3747868;-122.0099086
X-APPLE-STRUCTURED-LOCATION;VALUE=URI;X-ADDRESS=Moose Lodge 922 Weddell Court Sunnyvale CA 94089 United States;X-APPLE-RADIUS=500;X-TITLE=922 Weddell Court:geo:-122.0099086,37.3747868
END:VEVENT
BEGIN:VEVENT
DTSTART;TZID=America/Los_Angeles:20230719T190000
DTEND;TZID=America/Los_Angeles:20230719T220000
DTSTAMP:20260423T103144
CREATED:20230625T040646Z
LAST-MODIFIED:20230625T040955Z
UID:10009124-1689793200-1689804000@sftangowith.us
SUMMARY:Tango class and practica with David at La Bruja
DESCRIPTION:7:00-8:00 pm: Tango class with David Orly-Thompson! All levels of experience welcome. \n8:00-10:00 pm: Practica with DJ David \n$20 class and practica (cash only)\n$15 for students with ID (cash only)\n$10 practica without class (cash only) \nThis is a queer-friendly event where all genders are welcome to lead and follow. \nThis event takes place in the ballroom or drawing room of the Berkeley City Club. To enter the building\, ring the bell and say “tango.” We are a 10-minute walk from Downtown Berkeley BART. No non-member parking in the Berkeley City Club lot.  Extra parking is available for $2 per hour at Ellsworth Structure\, located at Ellsworth St. and Channing Way. \nwww.labrujatangoberkeley.com
URL:https://sftangowith.us/event/tango-class-and-practica-with-david-at-la-bruja/
LOCATION:Berkeley City Club\, 2315 Durant Ave\, Berkeley\, 94704\, United States
CATEGORIES:class,practica
ATTACH;FMTTYPE=image/jpeg:https://sftangowith.us/wp-content/uploads/2023/03/David-Image-1-copy1.jpg
ORGANIZER;CN="Berkeley City Club":MAILTO:info@labrujatangoberkeley.com
GEO:37.8676008;-122.2627745
X-APPLE-STRUCTURED-LOCATION;VALUE=URI;X-ADDRESS=Berkeley City Club 2315 Durant Ave Berkeley 94704 United States;X-APPLE-RADIUS=500;X-TITLE=2315 Durant Ave:geo:-122.2627745,37.8676008
END:VEVENT
BEGIN:VEVENT
DTSTART;VALUE=DATE:20230720
DTEND;VALUE=DATE:20230725
DTSTAMP:20260423T103144
CREATED:20230707T010442Z
LAST-MODIFIED:20230707T010631Z
UID:10009145-1689836400-1690181999@sftangowith.us
SUMMARY:Gabriel Missé & Maru Rifourcat Workshops
DESCRIPTION:Workshops Schedules & Themes:\n1) Thursday\, July 20: 7-9 pm – Fundamental Tango Technique.\n2) Friday\, July 21: 7-9 pm  – Traditional Tango Steps\n3) Saturday\, July 22: 6-8 pm – Enrosque\, Aguja & Giros\n4) Sunday\, July 23: 6-8 pm – Tango I Combine Sequences\n5) Thursday\, July 27: 7-9 pm – Traditional Steps Tango & Vals\n6) Friday\, July 28: 7-9 pm – Tango II Combine Sequences\n7) Saturday\, July 29: 6-8 pm – Advance Tango Structure\nSunday\, July 30: 6-8 pm – Traditional Tango & Milonga steps \nCost:\n$75 a workshop\n$280 4 workshops\n$550 8 workshops \nWorkshops are limited to 30 participants\nFor info contact Natasha\nnatasha_ng @ sbcglobal.net\nPrivate lessons with maestros contact Natasha
URL:https://sftangowith.us/event/gabriel-misse-maru-rifourcat-workshops-2/
LOCATION:Shall We Dance Tango\, 2209 S El Camino Real\, San Mateo\, CA\, 94403\, United States
CATEGORIES:workshop
ATTACH;FMTTYPE=image/jpeg:https://sftangowith.us/wp-content/uploads/2023/07/Gabriel-Misse-Maru-Rifourcat-Wksps.jpg
END:VEVENT
BEGIN:VEVENT
DTSTART;TZID=America/Los_Angeles:20230720T200000
DTEND;TZID=America/Los_Angeles:20230721T000000
DTSTAMP:20260423T103144
CREATED:20230612T063647Z
LAST-MODIFIED:20230612T063648Z
UID:10007741-1689883200-1689897600@sftangowith.us
SUMMARY:Milonga Malevaje w/ DJ Loco
DESCRIPTION:Every Thursday from 8:00 to 12:00\nWhen Class. from 7:00 to 8:00 \nProof of vaccination Required for newcomers\nMasks Highly Recommended\nBar is open! No outside drinks allowed\, please.
URL:https://sftangowith.us/event/milonga-malevaje-26/
LOCATION:Verdi Club\, 2424 Mariposa St\, San Francisco\, CA\, United States
CATEGORIES:milonga,Recommended for Visitors
ATTACH;FMTTYPE=image/jpeg:https://sftangowith.us/wp-content/uploads/2021/06/Loco-Howoon-DJ.jpg
GEO:37.7634058;-122.4079386
X-APPLE-STRUCTURED-LOCATION;VALUE=URI;X-ADDRESS=Verdi Club 2424 Mariposa St San Francisco CA United States;X-APPLE-RADIUS=500;X-TITLE=2424 Mariposa St:geo:-122.4079386,37.7634058
END:VEVENT
BEGIN:VEVENT
DTSTART;TZID=America/Los_Angeles:20230721T203000
DTEND;TZID=America/Los_Angeles:20230722T003000
DTSTAMP:20260423T103144
CREATED:20230716T084417Z
LAST-MODIFIED:20230716T084418Z
UID:10008034-1689971400-1689985800@sftangowith.us
SUMMARY:La Milonga Genesis w/ DJ Jonas
DESCRIPTION:La Milonga: 8:30pm-12:30am \n– Discounts offered for those in financial hardship\nemail: tangosaborsf@nullgmail.com \nPLEASE DO NOT ATTEND IF YOU ARE NOT FEELING WELL
URL:https://sftangowith.us/event/la-milonga-genesis-23-29/
LOCATION:Genesis Dance\, 404 Clement St.\, San Francisco\, CA
CATEGORIES:milonga,Recommended for Visitors
ATTACH;FMTTYPE=image/jpeg:https://sftangowith.us/wp-content/uploads/2021/06/Jonas_TangoIisLife_2018.jpg
GEO:37.7832315;-122.4636431
X-APPLE-STRUCTURED-LOCATION;VALUE=URI;X-ADDRESS=Genesis Dance 404 Clement St. San Francisco CA;X-APPLE-RADIUS=500;X-TITLE=404 Clement St.:geo:-122.4636431,37.7832315
END:VEVENT
BEGIN:VEVENT
DTSTART;TZID=America/Los_Angeles:20230722T110000
DTEND;TZID=America/Los_Angeles:20230722T160000
DTSTAMP:20260423T103144
CREATED:20220902T090853Z
LAST-MODIFIED:20221222T003927Z
UID:10008086-1690023600-1690041600@sftangowith.us
SUMMARY:Class & Practica w/ Glenn @ Bissap Baobab
DESCRIPTION:11:00 – 12:00 Basics Class\n12:00 – 01:00 Exploration / Improv Class\n01:00 – 04:00 PRACTICA \n$15/each class\n$20 – one class + practica\n$30 – two classes + practica\n$15 – Practica only \nBASICS CLASS is for all levels who wish to have a solid foundation by studying the language of tango. We focus on movement quality and clear communication. Master the basics! \nEXPLORATION / IMPROV is on learning how to dance with minimal effort\, get insight on improvisation\, plus grooving to the music. \nLet’s have fun! 🙂 \nsfotango@nullyahoo.com
URL:https://sftangowith.us/event/bissap-baobab/2023-07-22/
LOCATION:Bissap Baobab\, 2243 Mission Street\, San Francisco\, CA
CATEGORIES:class,practica,Recommended for Visitors
ATTACH;FMTTYPE=image/jpeg:https://sftangowith.us/wp-content/uploads/2022/09/Bissap-Baobab.jpg
GEO:37.7604434;-122.4187949
X-APPLE-STRUCTURED-LOCATION;VALUE=URI;X-ADDRESS=Bissap Baobab 2243 Mission Street San Francisco CA;X-APPLE-RADIUS=500;X-TITLE=2243 Mission Street:geo:-122.4187949,37.7604434
END:VEVENT
BEGIN:VEVENT
DTSTART;TZID=America/Los_Angeles:20230722T210000
DTEND;TZID=America/Los_Angeles:20230723T030000
DTSTAMP:20260423T103144
CREATED:20230711T181833Z
LAST-MODIFIED:20230716T081419Z
UID:10008128-1690059600-1690081200@sftangowith.us
SUMMARY:All Night Milonga "mini" w/ Liliana Chenlo Workshop (DJ Selene)
DESCRIPTION:This July All-nighter is on the usual 4th Saturday of the month\, July 22\, hosted by Jonas & Xiaomin. \n9pm – 10pm: Class with guest teacher Liliana Chenlo\n10pm – 3am: Milonga with guest DJ Selene\nChacarera intermission around midnight! \nSliding scale\n$30-35 class & milonga\n$20-25 milonga only\n(you can pay any amount in between)\n$5 discount for full-time students \nRegistration is required ONLY for NEW dancers (if attending for the first time since reopening in 2021)\nwww.jonastango.com/jx-at-the-beat/
URL:https://sftangowith.us/event/all-nighter-mini-23-8/
LOCATION:The Beat\, 2560 Ninth Street\, Berkeley\, CA\, United States
CATEGORIES:milonga
ATTACH;FMTTYPE=image/jpeg:https://sftangowith.us/wp-content/uploads/2023/07/2023-07-22-All-Nighter.jpg
GEO:37.8591971;-122.2917693
X-APPLE-STRUCTURED-LOCATION;VALUE=URI;X-ADDRESS=The Beat 2560 Ninth Street Berkeley CA United States;X-APPLE-RADIUS=500;X-TITLE=2560 Ninth Street:geo:-122.2917693,37.8591971
END:VEVENT
END:VCALENDAR