BEGIN:VCALENDAR
VERSION:2.0
PRODID:-//SF Tango With.Us - ECPv6.6.2//NONSGML v1.0//EN
CALSCALE:GREGORIAN
METHOD:PUBLISH
X-ORIGINAL-URL:https://sftangowith.us
X-WR-CALDESC:Events for SF Tango With.Us
REFRESH-INTERVAL;VALUE=DURATION:PT1H
X-Robots-Tag:noindex
X-PUBLISHED-TTL:PT1H
BEGIN:VTIMEZONE
TZID:America/Los_Angeles
BEGIN:DAYLIGHT
TZOFFSETFROM:-0800
TZOFFSETTO:-0700
TZNAME:PDT
DTSTART:20230312T100000
END:DAYLIGHT
BEGIN:STANDARD
TZOFFSETFROM:-0700
TZOFFSETTO:-0800
TZNAME:PST
DTSTART:20231105T090000
END:STANDARD
END:VTIMEZONE
BEGIN:VEVENT
DTSTART;TZID=America/Los_Angeles:20230826T210000
DTEND;TZID=America/Los_Angeles:20230827T040000
DTSTAMP:20260423T061817
CREATED:20230801T181143Z
LAST-MODIFIED:20230801T231557Z
UID:10008129-1693083600-1693108800@sftangowith.us
SUMMARY:All Night Milonga @ The Beat
DESCRIPTION:9:00 – 10:00 Class with Carol & Ayano\n10:00 – 4:00a Milonga with DJ Carol Horowitz\nChacarera break around 1:00a \nClass + Milonga $30-35 sliding scale\nMilonga only $20-25 sliding scale (you can pay any amount between $20 and $25) \nEvery 4th Saturday\nHosted by Felipe Martinez & Ayano Yoneda \nHigh-quality mask (KF94/KN95/N95) advised. \nRegistration is required for first time attendees since 2021.\nhttps://tangonnection.wixsite.com/felipetango/beat
URL:https://sftangowith.us/event/all-nighter-mini-23-1-2/
LOCATION:The Beat\, 2560 Ninth Street\, Berkeley\, CA\, United States
CATEGORIES:all-nighter,milonga,Recommended for Visitors
ATTACH;FMTTYPE=image/jpeg:https://sftangowith.us/wp-content/uploads/2017/06/Carol-Anne-Horowitz-The-Beat.jpg
GEO:37.8591971;-122.2917693
X-APPLE-STRUCTURED-LOCATION;VALUE=URI;X-ADDRESS=The Beat 2560 Ninth Street Berkeley CA United States;X-APPLE-RADIUS=500;X-TITLE=2560 Ninth Street:geo:-122.2917693,37.8591971
END:VEVENT
BEGIN:VEVENT
DTSTART;TZID=America/Los_Angeles:20230827T160000
DTEND;TZID=America/Los_Angeles:20230827T180000
DTSTAMP:20260423T061817
CREATED:20230818T235651Z
LAST-MODIFIED:20230818T235651Z
UID:10009232-1693152000-1693159200@sftangowith.us
SUMMARY:Buena Onda Collective & Sumi Lee @ Gallery Enso (Live Music)
DESCRIPTION:Welcome to the first installment of Argentine Tango Concert Series on the coast! \nSumi & Buena Onda Collective will present a contemporary tango program that is a reflection of their diverse musical backgrounds and the tango journey they have taken together. They will present Nuevo tango pieces by Astor Piazzolla such as Kicho which was written for his bassist\, newly commissioned pieces and contemporary tangos. They hope to show their audience the diverse richness that tango has to offer. \nSumi Lee\, piano\nClara Stern\, bandoneón\nSinai Rim\, bandoneón\nBasma Edrees\, violin\nHannah Macgillivray\, contrabass
URL:https://sftangowith.us/event/buena-onda-collective-sumi-lee-gallery-enso-live-music/
LOCATION:Gallery Enso\, 131 Kelly Ave\, Half Moon Bay\, CA\, United States
CATEGORIES:music (live)
ATTACH;FMTTYPE=image/jpeg:https://sftangowith.us/wp-content/uploads/2023/08/Buena-Onda-Collective-Half-Moon-Bay.jpg
END:VEVENT
BEGIN:VEVENT
DTSTART;TZID=America/Los_Angeles:20230827T190000
DTEND;TZID=America/Los_Angeles:20230828T000000
DTSTAMP:20260423T061817
CREATED:20230723T212619Z
LAST-MODIFIED:20230801T004053Z
UID:10008173-1693162800-1693180800@sftangowith.us
SUMMARY:Milonga @ Alberto's w/ DJ Ayano
DESCRIPTION:7pm – Midnight\n \nEntrance $15 \n736 W. Dana\, Mountain View\,  California 94041 \nFULLY VACCINATED DANCERS ONLY.\nMask optional if you’re up to date with vaccine and booster.\nPlease show vaccination card\, or phone image.\nNo entry without proof of vaccination. \nNo communal food or water – bring your own water (but no alcohol).\nLicensed bar will be open all evening.
URL:https://sftangowith.us/event/milonga-albertos-23-36/
LOCATION:Alberto’s Night Club\, 736 W. Dana St.\, Mountain View\, CA\, United States
CATEGORIES:milonga,Recommended for Visitors
ATTACH;FMTTYPE=image/jpeg:https://sftangowith.us/wp-content/uploads/2021/07/Ayano-DJ.jpg
GEO:37.3923683;-122.0789214
X-APPLE-STRUCTURED-LOCATION;VALUE=URI;X-ADDRESS=Alberto’s Night Club 736 W. Dana St. Mountain View CA United States;X-APPLE-RADIUS=500;X-TITLE=736 W. Dana St.:geo:-122.0789214,37.3923683
END:VEVENT
BEGIN:VEVENT
DTSTART;TZID=America/Los_Angeles:20230828T193000
DTEND;TZID=America/Los_Angeles:20230828T213000
DTSTAMP:20260423T061817
CREATED:20230828T061726Z
LAST-MODIFIED:20231016T224459Z
UID:10009351-1693251000-1693258200@sftangowith.us
SUMMARY:Tango Techniques with Ramada & Elaine
DESCRIPTION:~Fundamentals – exercise\, tips\, and drills to improve social tango skills.\n~Suitable for all-level dancers who want to brush up on their techniques or work on specific issues.\n~Guided practice time included\n~Masks are recommended but not required.\n~Switch-role-friendly and queer-friendly.\n($20 cash/Venmo/Zelle)
URL:https://sftangowith.us/event/tango-techniques-with-ramada-elaine/2023-08-28/
LOCATION:La Pista\, 3450 3rd St\, Building 5\, San Francisco\, CA\, 94124\, United States
CATEGORIES:class,practica
ATTACH;FMTTYPE=image/jpeg:https://sftangowith.us/wp-content/uploads/2023/08/70AFBDDF-9E85-460B-9DD0-7FE914B6F0B6.jpg
GEO:37.7457575;-122.3878168
X-APPLE-STRUCTURED-LOCATION;VALUE=URI;X-ADDRESS=La Pista 3450 3rd St Building 5 San Francisco CA 94124 United States;X-APPLE-RADIUS=500;X-TITLE=3450 3rd St\, Building 5:geo:-122.3878168,37.7457575
END:VEVENT
BEGIN:VEVENT
DTSTART;TZID=America/Los_Angeles:20230828T201500
DTEND;TZID=America/Los_Angeles:20230829T002000
DTSTAMP:20260423T061817
CREATED:20230517T015552Z
LAST-MODIFIED:20240920T042606Z
UID:10008877-1693253700-1693268400@sftangowith.us
SUMMARY:Monday Night Tango @ The Beat
DESCRIPTION:8:15-9:30p – Intermediate class\n9:30p-0:30a – Practica \nRegistration required for NEW DANCERS ONLY\n(if you haven’t attended Monday / Allnighter since 2021)\nhttps://tangonnection.wixsite.com/felipetango/beat \nIf you don’t feel well\, please stay at home.\nWe will keep the room well-ventilated. Please bring layers.\nStaying up to date with COVID-19 vaccines is highly recommended. \nIf you contracted COVID-19 within 5 days from attending this event\, please contact us. We will notify the attendees.
URL:https://sftangowith.us/event/monday-night-tango-the-beat-23-3/2023-08-28/
LOCATION:The Beat\, 2560 Ninth Street\, Berkeley\, CA\, United States
CATEGORIES:class,milonga,practica,Recommended for Visitors
ATTACH;FMTTYPE=image/jpeg:https://sftangowith.us/wp-content/uploads/2017/06/Felipe-Ayano-July30.jpg
ORGANIZER;CN="Felipe and Ayano":MAILTO:tangonnection@gmail.com
GEO:37.8591971;-122.2917693
X-APPLE-STRUCTURED-LOCATION;VALUE=URI;X-ADDRESS=The Beat 2560 Ninth Street Berkeley CA United States;X-APPLE-RADIUS=500;X-TITLE=2560 Ninth Street:geo:-122.2917693,37.8591971
END:VEVENT
BEGIN:VEVENT
DTSTART;TZID=America/Los_Angeles:20230829T203000
DTEND;TZID=America/Los_Angeles:20230830T000000
DTSTAMP:20260423T061817
CREATED:20230801T000632Z
LAST-MODIFIED:20230801T004237Z
UID:10007935-1693341000-1693353600@sftangowith.us
SUMMARY:El Valenciano Milonga w/ DJ Ayano
DESCRIPTION:8:30pm – Zero Hour\n$20\n$15 (w/ full-time college student ID)
URL:https://sftangowith.us/event/el-valenciano-milonga-23-36/
LOCATION:El Valenciano\, 1153 Valencia Street\, San Francisco\, CA\, United States
CATEGORIES:class,milonga,Recommended for Visitors
ATTACH;FMTTYPE=image/jpeg:https://sftangowith.us/wp-content/uploads/2022/06/NTW2022-Ayano.jpg
GEO:37.7545379;-122.4205807
X-APPLE-STRUCTURED-LOCATION;VALUE=URI;X-ADDRESS=El Valenciano 1153 Valencia Street San Francisco CA United States;X-APPLE-RADIUS=500;X-TITLE=1153 Valencia Street:geo:-122.4205807,37.7545379
END:VEVENT
BEGIN:VEVENT
DTSTART;TZID=America/Los_Angeles:20230830T190000
DTEND;TZID=America/Los_Angeles:20230830T220000
DTSTAMP:20260423T061817
CREATED:20221208T041116Z
LAST-MODIFIED:20240725T045147Z
UID:10008244-1693422000-1693432800@sftangowith.us
SUMMARY:Sunnyvale Practica @ The Moose Lodge
DESCRIPTION:We are all inclusive tango community of dedicated tango lovers .We come every Wednesday to work hard on improving our tango skills. Join us on this journey and enjoy welcoming environment and great music played by our DJ in residence Rene Quebec or a guest DJ. \n¡¡DO NOT: Double park\, block other cars\, block the fire lane\, park in disabled parking\, or in the front of the building!! \nAlternate parking locations: 1) Behind the building to the north at Fortinet or 2) one lot to the west at 901 Kifer.
URL:https://sftangowith.us/event/sunnyvale-practica-the-moose-lodge/2023-08-30/
LOCATION:Moose Lodge\, 922 Weddell Court\, Sunnyvale\, CA\, 94089\, United States
CATEGORIES:practica,Recommended for Visitors
GEO:37.3747868;-122.0099086
X-APPLE-STRUCTURED-LOCATION;VALUE=URI;X-ADDRESS=Moose Lodge 922 Weddell Court Sunnyvale CA 94089 United States;X-APPLE-RADIUS=500;X-TITLE=922 Weddell Court:geo:-122.0099086,37.3747868
END:VEVENT
BEGIN:VEVENT
DTSTART;TZID=America/Los_Angeles:20230830T190000
DTEND;TZID=America/Los_Angeles:20230830T230000
DTSTAMP:20260423T061817
CREATED:20230625T025215Z
LAST-MODIFIED:20230625T030154Z
UID:10009116-1693422000-1693436400@sftangowith.us
SUMMARY:Tango class and practica with Diego and Alejandra at La Bruja
DESCRIPTION:7:00-8:00 pm: Tango class with Diego Lanau and Alejandra Saravia!  All levels of experience welcome. \n8:00-10:00 pm: Practica with DJ TBA \n$20 class and practica (cash only)\n$15 for students with ID (cash only)\n$10 practica without class (cash only) \nThis is a queer-friendly event where all genders are welcome to lead and follow. \nThis event takes place in the ballroom or drawing room of the Berkeley City Club. To enter the building\, ring the bell and say “tango.” We are a 10-minute walk from Downtown Berkeley BART. No non-member parking in the Berkeley City Club lot.  Extra parking is available for $2 per hour at Ellsworth Structure\, located at Ellsworth St. and Channing Way. \nwww.labrujatangoberkeley.com
URL:https://sftangowith.us/event/tango-class-and-practica-with-diego-and-alejandra-at-la-bruno/2023-08-30/
LOCATION:Berkeley City Club\, 2315 Durant Ave\, Berkeley\, 94704\, United States
CATEGORIES:class,practica
ATTACH;FMTTYPE=image/jpeg:https://sftangowith.us/wp-content/uploads/2023/03/DiegoAleFB.jpg
ORGANIZER;CN="Berkeley City Club":MAILTO:info@labrujatangoberkeley.com
GEO:37.8676008;-122.2627745
X-APPLE-STRUCTURED-LOCATION;VALUE=URI;X-ADDRESS=Berkeley City Club 2315 Durant Ave Berkeley 94704 United States;X-APPLE-RADIUS=500;X-TITLE=2315 Durant Ave:geo:-122.2627745,37.8676008
END:VEVENT
BEGIN:VEVENT
DTSTART;TZID=America/Los_Angeles:20230831T200000
DTEND;TZID=America/Los_Angeles:20230901T000000
DTSTAMP:20260423T061817
CREATED:20230711T193357Z
LAST-MODIFIED:20230816T200225Z
UID:10007747-1693512000-1693526400@sftangowith.us
SUMMARY:Milonga Malevaje w/ DJ Rina Gendelman
DESCRIPTION:Every Thursday from 8:00 to 12:00\nWhen Class. from 7:00 to 8:00 \nMasks Optional\nBar is open! No outside drinks allowed\, please.
URL:https://sftangowith.us/event/milonga-malevaje-32/
LOCATION:Verdi Club\, 2424 Mariposa St\, San Francisco\, CA\, United States
CATEGORIES:milonga,Recommended for Visitors
ATTACH;FMTTYPE=image/jpeg:https://sftangowith.us/wp-content/uploads/2021/05/Milonga-Malevaje.jpg
GEO:37.7634058;-122.4079386
X-APPLE-STRUCTURED-LOCATION;VALUE=URI;X-ADDRESS=Verdi Club 2424 Mariposa St San Francisco CA United States;X-APPLE-RADIUS=500;X-TITLE=2424 Mariposa St:geo:-122.4079386,37.7634058
END:VEVENT
BEGIN:VEVENT
DTSTART;TZID=America/Los_Angeles:20230901T203000
DTEND;TZID=America/Los_Angeles:20230902T003000
DTSTAMP:20260423T061817
CREATED:20230830T061144Z
LAST-MODIFIED:20230830T061144Z
UID:10008040-1693600200-1693614600@sftangowith.us
SUMMARY:La Milonga Genesis w/ DJ Ashvin
DESCRIPTION:La Milonga: 8:30pm-12:30am \n– Discounts offered for those in financial hardship\nemail: tangosaborsf@nullgmail.com \nPLEASE DO NOT ATTEND IF YOU ARE NOT FEELING WELL
URL:https://sftangowith.us/event/la-milonga-genesis-23-35/
LOCATION:Genesis Dance\, 404 Clement St.\, San Francisco\, CA
CATEGORIES:milonga,Recommended for Visitors
ATTACH;FMTTYPE=image/jpeg:https://sftangowith.us/wp-content/uploads/2021/06/AshvinIyer_2019jpg.jpg
GEO:37.7832315;-122.4636431
X-APPLE-STRUCTURED-LOCATION;VALUE=URI;X-ADDRESS=Genesis Dance 404 Clement St. San Francisco CA;X-APPLE-RADIUS=500;X-TITLE=404 Clement St.:geo:-122.4636431,37.7832315
END:VEVENT
BEGIN:VEVENT
DTSTART;TZID=America/Los_Angeles:20230902T110000
DTEND;TZID=America/Los_Angeles:20230902T160000
DTSTAMP:20260423T061817
CREATED:20230727T040913Z
LAST-MODIFIED:20230727T040913Z
UID:10008092-1693652400-1693670400@sftangowith.us
SUMMARY:Class & Practica w/ Glenn @ Bissap Baobab
DESCRIPTION:11:00 – 12:00 Basics Class\n12:00 – 01:00 Exploration / Improv Class\n01:00 – 04:00 PRACTICA \n$15/each class\n$20 – one class + practica\n$30 – two classes + practica\n$15 – Practica only \nBASICS CLASS is for all levels who wish to have a solid foundation by studying the language of tango. We focus on movement quality and clear communication. Master the basics! \nEXPLORATION / IMPROV is on learning how to dance with minimal effort\, get insight on improvisation\, plus grooving to the music. \nLet’s have fun! 🙂 \nsfotango@nullyahoo.com
URL:https://sftangowith.us/event/bissap-baobab-4/2023-09-02/
LOCATION:Bissap Baobab\, 2243 Mission Street\, San Francisco\, CA
CATEGORIES:class,practica,Recommended for Visitors
ATTACH;FMTTYPE=image/jpeg:https://sftangowith.us/wp-content/uploads/2022/09/Bissap-Baobab.jpg
GEO:37.7604434;-122.4187949
X-APPLE-STRUCTURED-LOCATION;VALUE=URI;X-ADDRESS=Bissap Baobab 2243 Mission Street San Francisco CA;X-APPLE-RADIUS=500;X-TITLE=2243 Mission Street:geo:-122.4187949,37.7604434
END:VEVENT
BEGIN:VEVENT
DTSTART;TZID=America/Los_Angeles:20230902T210000
DTEND;TZID=America/Los_Angeles:20230903T013000
DTSTAMP:20260423T061817
CREATED:20230827T191730Z
LAST-MODIFIED:20230830T214507Z
UID:10008640-1693688400-1693704600@sftangowith.us
SUMMARY:Che! Milonga w/ DJ Gokhan
DESCRIPTION:Milonga: 9pm – 1:30am\nHosted by Ramada and Elaine \n$20: MILONGA ONLY\nCash or Venmo at the door \n~Fully Vaccinated Event. Vaccination information is required upon entry and masks are recommended but optional.\n~We are dedicated to providing a welcoming\, inclusive\, safe\, and comfortable environment for everyone\, regardless of gender\, age\, sexual orientation\, race\, ethnicity\, religion\, or any other characteristic or trait.\n~We reserve the right to refuse entry to anyone who causes discomfort\, unsafe feelings\, and physical hazards to our attendees.\n~Respect for the line of dance and floor craft is enforced.\n~This is a switch-role-friendly and queer-friendly event.\n~Bring your own beverage (BYOB)\, snacks\, and drinking vessels. Water will be provided.\n~Tables are first come first served\, no reservations.\n~Parking lot on site. Park in the numbered lots EXCEPT numbers: 24\, 25\, 28\, 29\, 30\, 31\, 35\, 36\, 40.
URL:https://sftangowith.us/event/che-milonga-12/
LOCATION:La Pista\, 3450 3rd St\, Building 5\, San Francisco\, CA\, 94124\, United States
CATEGORIES:milonga,Recommended for Visitors
ATTACH;FMTTYPE=image/jpeg:https://sftangowith.us/wp-content/uploads/2021/06/301737353_589784886214170_5799780673428711832_n.jpg
GEO:37.7457575;-122.3878168
X-APPLE-STRUCTURED-LOCATION;VALUE=URI;X-ADDRESS=La Pista 3450 3rd St Building 5 San Francisco CA 94124 United States;X-APPLE-RADIUS=500;X-TITLE=3450 3rd St\, Building 5:geo:-122.3878168,37.7457575
END:VEVENT
BEGIN:VEVENT
DTSTART;TZID=America/Los_Angeles:20230902T210000
DTEND;TZID=America/Los_Angeles:20230903T013000
DTSTAMP:20260423T061817
CREATED:20230828T090400Z
LAST-MODIFIED:20230828T090401Z
UID:10009164-1693688400-1693704600@sftangowith.us
SUMMARY:Vecher Tango (Cancelled)
DESCRIPTION:No Vecher Tango tonight\, next milonga on September 16
URL:https://sftangowith.us/event/vecher-tango-5-10/
LOCATION:Russian Center of San Francisco\, 2460 Sutter St\, San Francisco\, CA\, United States
GEO:37.7853848;-122.440907
X-APPLE-STRUCTURED-LOCATION;VALUE=URI;X-ADDRESS=Russian Center of San Francisco 2460 Sutter St San Francisco CA United States;X-APPLE-RADIUS=500;X-TITLE=2460 Sutter St:geo:-122.440907,37.7853848
END:VEVENT
END:VCALENDAR