BEGIN:VCALENDAR
VERSION:2.0
PRODID:-//SF Tango With.Us - ECPv6.6.2//NONSGML v1.0//EN
CALSCALE:GREGORIAN
METHOD:PUBLISH
X-ORIGINAL-URL:https://sftangowith.us
X-WR-CALDESC:Events for SF Tango With.Us
REFRESH-INTERVAL;VALUE=DURATION:PT1H
X-Robots-Tag:noindex
X-PUBLISHED-TTL:PT1H
BEGIN:VTIMEZONE
TZID:America/Los_Angeles
BEGIN:DAYLIGHT
TZOFFSETFROM:-0800
TZOFFSETTO:-0700
TZNAME:PDT
DTSTART:20200308T100000
END:DAYLIGHT
BEGIN:STANDARD
TZOFFSETFROM:-0700
TZOFFSETTO:-0800
TZNAME:PST
DTSTART:20201101T090000
END:STANDARD
END:VTIMEZONE
BEGIN:VEVENT
DTSTART;TZID=America/Los_Angeles:20200126T143000
DTEND;TZID=America/Los_Angeles:20200126T180000
DTSTAMP:20260423T114426
CREATED:20200112T113922Z
LAST-MODIFIED:20200114T171252Z
UID:10006474-1580049000-1580061600@sftangowith.us
SUMMARY:Fiat Lux w/ DJ Carol Horowitz
DESCRIPTION:Visiting from Montreal\, DJ Carol Horowitz will kick off the first Fiat Lux of the semester and decade! \nTake a little nap after the All-Nighter and join us at this daytime milonga to celebrate some more. Here’s to hoping the Argentine Tango Club of Berkeley continues to grow and flourish in the next decade. \nEarly Bird (2:30-3:00): $10\nGeneral: $12\nUCB students: Free
URL:https://sftangowith.us/event/fiat-lux-dj-carol-horowitz/
LOCATION:Hearst Gymnasium\, Bancroft Way & Bowditch St\, Berkeley\, CA\, 94720\, United States
CATEGORIES:milonga
ATTACH;FMTTYPE=image/jpeg:https://sftangowith.us/wp-content/uploads/2017/06/Carol-Anne-Horowitz-The-Beat.jpg
GEO:37.8690034;-122.2568986
X-APPLE-STRUCTURED-LOCATION;VALUE=URI;X-ADDRESS=Hearst Gymnasium Bancroft Way & Bowditch St Berkeley CA 94720 United States;X-APPLE-RADIUS=500;X-TITLE=Bancroft Way & Bowditch St:geo:-122.2568986,37.8690034
END:VEVENT
END:VCALENDAR