BEGIN:VCALENDAR
VERSION:2.0
PRODID:-//SF Tango With.Us - ECPv6.6.2//NONSGML v1.0//EN
CALSCALE:GREGORIAN
METHOD:PUBLISH
X-ORIGINAL-URL:https://sftangowith.us
X-WR-CALDESC:Events for SF Tango With.Us
REFRESH-INTERVAL;VALUE=DURATION:PT1H
X-Robots-Tag:noindex
X-PUBLISHED-TTL:PT1H
BEGIN:VTIMEZONE
TZID:America/Los_Angeles
BEGIN:DAYLIGHT
TZOFFSETFROM:-0800
TZOFFSETTO:-0700
TZNAME:PDT
DTSTART:20200308T100000
END:DAYLIGHT
BEGIN:STANDARD
TZOFFSETFROM:-0700
TZOFFSETTO:-0800
TZNAME:PST
DTSTART:20201101T090000
END:STANDARD
END:VTIMEZONE
BEGIN:VEVENT
DTSTART;TZID=America/Los_Angeles:20200426T190000
DTEND;TZID=America/Los_Angeles:20200427T000000
DTSTAMP:20260419T055056
CREATED:20170610T102456Z
LAST-MODIFIED:20200402T054741Z
UID:10006328-1587927600-1587945600@sftangowith.us
SUMMARY:Milonga @ Alberto's (Cancelled)
DESCRIPTION:
URL:https://sftangowith.us/event/milonga-albertos-20-2020-04-26/
LOCATION:Alberto’s Night Club\, 736 W. Dana St.\, Mountain View\, CA\, United States
GEO:37.3923683;-122.0789214
X-APPLE-STRUCTURED-LOCATION;VALUE=URI;X-ADDRESS=Alberto’s Night Club 736 W. Dana St. Mountain View CA United States;X-APPLE-RADIUS=500;X-TITLE=736 W. Dana St.:geo:-122.0789214,37.3923683
END:VEVENT
BEGIN:VEVENT
DTSTART;TZID=America/Los_Angeles:20200419T190000
DTEND;TZID=America/Los_Angeles:20200420T000000
DTSTAMP:20260419T055056
CREATED:20170610T102456Z
LAST-MODIFIED:20200402T054755Z
UID:10006326-1587322800-1587340800@sftangowith.us
SUMMARY:Milonga @ Alberto's (Cancelled)
DESCRIPTION:
URL:https://sftangowith.us/event/milonga-albertos-20-2020-04-19/
LOCATION:Alberto’s Night Club\, 736 W. Dana St.\, Mountain View\, CA\, United States
GEO:37.3923683;-122.0789214
X-APPLE-STRUCTURED-LOCATION;VALUE=URI;X-ADDRESS=Alberto’s Night Club 736 W. Dana St. Mountain View CA United States;X-APPLE-RADIUS=500;X-TITLE=736 W. Dana St.:geo:-122.0789214,37.3923683
END:VEVENT
BEGIN:VEVENT
DTSTART;TZID=America/Los_Angeles:20200412T190000
DTEND;TZID=America/Los_Angeles:20200413T000000
DTSTAMP:20260419T055056
CREATED:20170610T102456Z
LAST-MODIFIED:20200402T054715Z
UID:10006308-1586718000-1586736000@sftangowith.us
SUMMARY:Milonga @ Alberto's (Cancelled)
DESCRIPTION:
URL:https://sftangowith.us/event/milonga-albertos-20-2020-04-12/
LOCATION:Alberto’s Night Club\, 736 W. Dana St.\, Mountain View\, CA\, United States
ATTACH;FMTTYPE=image/jpeg:https://sftangowith.us/wp-content/uploads/2017/06/Albertos.jpg
GEO:37.3923683;-122.0789214
X-APPLE-STRUCTURED-LOCATION;VALUE=URI;X-ADDRESS=Alberto’s Night Club 736 W. Dana St. Mountain View CA United States;X-APPLE-RADIUS=500;X-TITLE=736 W. Dana St.:geo:-122.0789214,37.3923683
END:VEVENT
BEGIN:VEVENT
DTSTART;TZID=America/Los_Angeles:20200405T190000
DTEND;TZID=America/Los_Angeles:20200406T000000
DTSTAMP:20260419T055056
CREATED:20170610T102456Z
LAST-MODIFIED:20200325T045220Z
UID:10006213-1586113200-1586131200@sftangowith.us
SUMMARY:Milonga @ Alberto's (Cancelled)
DESCRIPTION:
URL:https://sftangowith.us/event/milonga-albertos-20-04-05/
LOCATION:Alberto’s Night Club\, 736 W. Dana St.\, Mountain View\, CA\, United States
GEO:37.3923683;-122.0789214
X-APPLE-STRUCTURED-LOCATION;VALUE=URI;X-ADDRESS=Alberto’s Night Club 736 W. Dana St. Mountain View CA United States;X-APPLE-RADIUS=500;X-TITLE=736 W. Dana St.:geo:-122.0789214,37.3923683
END:VEVENT
BEGIN:VEVENT
DTSTART;TZID=America/Los_Angeles:20200329T190000
DTEND;TZID=America/Los_Angeles:20200330T000000
DTSTAMP:20260419T055056
CREATED:20170610T102456Z
LAST-MODIFIED:20200320T052217Z
UID:10006300-1585508400-1585526400@sftangowith.us
SUMMARY:Milonga @ Alberto's (Cancelled)
DESCRIPTION:
URL:https://sftangowith.us/event/milonga-albertos-20-2020-03-29/
LOCATION:Alberto’s Night Club\, 736 W. Dana St.\, Mountain View\, CA\, United States
GEO:37.3923683;-122.0789214
X-APPLE-STRUCTURED-LOCATION;VALUE=URI;X-ADDRESS=Alberto’s Night Club 736 W. Dana St. Mountain View CA United States;X-APPLE-RADIUS=500;X-TITLE=736 W. Dana St.:geo:-122.0789214,37.3923683
END:VEVENT
BEGIN:VEVENT
DTSTART;TZID=America/Los_Angeles:20200322T190000
DTEND;TZID=America/Los_Angeles:20200323T000000
DTSTAMP:20260419T055056
CREATED:20170610T102456Z
LAST-MODIFIED:20200314T003824Z
UID:10006291-1584903600-1584921600@sftangowith.us
SUMMARY:Milonga @ Alberto's (Cancelled)
DESCRIPTION:
URL:https://sftangowith.us/event/milonga-albertos-20-2020-03-22/
LOCATION:Alberto’s Night Club\, 736 W. Dana St.\, Mountain View\, CA\, United States
GEO:37.3923683;-122.0789214
X-APPLE-STRUCTURED-LOCATION;VALUE=URI;X-ADDRESS=Alberto’s Night Club 736 W. Dana St. Mountain View CA United States;X-APPLE-RADIUS=500;X-TITLE=736 W. Dana St.:geo:-122.0789214,37.3923683
END:VEVENT
BEGIN:VEVENT
DTSTART;TZID=America/Los_Angeles:20200315T190000
DTEND;TZID=America/Los_Angeles:20200316T000000
DTSTAMP:20260419T055056
CREATED:20170610T102456Z
LAST-MODIFIED:20200313T192311Z
UID:10006267-1584298800-1584316800@sftangowith.us
SUMMARY:Milonga @ Alberto's (Cancelled)
DESCRIPTION:
URL:https://sftangowith.us/event/milonga-albertos-20-2020-03-15/
LOCATION:Alberto’s Night Club\, 736 W. Dana St.\, Mountain View\, CA\, United States
GEO:37.3923683;-122.0789214
X-APPLE-STRUCTURED-LOCATION;VALUE=URI;X-ADDRESS=Alberto’s Night Club 736 W. Dana St. Mountain View CA United States;X-APPLE-RADIUS=500;X-TITLE=736 W. Dana St.:geo:-122.0789214,37.3923683
END:VEVENT
BEGIN:VEVENT
DTSTART;TZID=America/Los_Angeles:20200308T190000
DTEND;TZID=America/Los_Angeles:20200309T000000
DTSTAMP:20260419T055056
CREATED:20170610T102456Z
LAST-MODIFIED:20200227T024142Z
UID:10006260-1583694000-1583712000@sftangowith.us
SUMMARY:Milonga @ Alberto's w/ Olga Bogatova
DESCRIPTION:MILONGA @ Alberto’s\, 736 W. Dana\, Mountain View\, CA \n7pm – Midnight   $10 \nDJ: Olga Bogatova
URL:https://sftangowith.us/event/milonga-albertos-20-03-08/
LOCATION:Alberto’s Night Club\, 736 W. Dana St.\, Mountain View\, CA\, United States
CATEGORIES:milonga
ATTACH;FMTTYPE=image/jpeg:https://sftangowith.us/wp-content/uploads/2017/06/Olga-Bogatova-DJ.jpg
GEO:37.3923683;-122.0789214
X-APPLE-STRUCTURED-LOCATION;VALUE=URI;X-ADDRESS=Alberto’s Night Club 736 W. Dana St. Mountain View CA United States;X-APPLE-RADIUS=500;X-TITLE=736 W. Dana St.:geo:-122.0789214,37.3923683
END:VEVENT
BEGIN:VEVENT
DTSTART;TZID=America/Los_Angeles:20200301T190000
DTEND;TZID=America/Los_Angeles:20200302T000000
DTSTAMP:20260419T055056
CREATED:20170610T102456Z
LAST-MODIFIED:20200204T002512Z
UID:10006254-1583089200-1583107200@sftangowith.us
SUMMARY:Milonga @ Alberto's w/ DJ Caleb Welton
DESCRIPTION:MILONGA @ Alberto’s\, 736 W. Dana\, Mountain View\, CA \n7pm – Midnight   $10 \nDJ: Caleb Welton
URL:https://sftangowith.us/event/milonga-albertos-20-03-01/
LOCATION:Alberto’s Night Club\, 736 W. Dana St.\, Mountain View\, CA\, United States
CATEGORIES:milonga
ATTACH;FMTTYPE=image/jpeg:https://sftangowith.us/wp-content/uploads/2017/06/Albertos.jpg
GEO:37.3923683;-122.0789214
X-APPLE-STRUCTURED-LOCATION;VALUE=URI;X-ADDRESS=Alberto’s Night Club 736 W. Dana St. Mountain View CA United States;X-APPLE-RADIUS=500;X-TITLE=736 W. Dana St.:geo:-122.0789214,37.3923683
END:VEVENT
BEGIN:VEVENT
DTSTART;TZID=America/Los_Angeles:20200223T190000
DTEND;TZID=America/Los_Angeles:20200224T000000
DTSTAMP:20260419T055056
CREATED:20170610T102456Z
LAST-MODIFIED:20200202T195324Z
UID:10006252-1582484400-1582502400@sftangowith.us
SUMMARY:Milonga @ Alberto's w/ DJ Ney Melo
DESCRIPTION:MILONGA @ Alberto’s\, 736 W. Dana\, Mountain View\, CA \n7pm – Midnight   $10 \nDJ: Ney Melo: 8pm-Midnight\nRene Quebec: 7-8pm
URL:https://sftangowith.us/event/milonga-albertos-20-2020-02-23/
LOCATION:Alberto’s Night Club\, 736 W. Dana St.\, Mountain View\, CA\, United States
CATEGORIES:milonga
ATTACH;FMTTYPE=image/jpeg:https://sftangowith.us/wp-content/uploads/2017/06/NeyMelo.jpg
GEO:37.3923683;-122.0789214
X-APPLE-STRUCTURED-LOCATION;VALUE=URI;X-ADDRESS=Alberto’s Night Club 736 W. Dana St. Mountain View CA United States;X-APPLE-RADIUS=500;X-TITLE=736 W. Dana St.:geo:-122.0789214,37.3923683
END:VEVENT
BEGIN:VEVENT
DTSTART;TZID=America/Los_Angeles:20200216T190000
DTEND;TZID=America/Los_Angeles:20200217T000000
DTSTAMP:20260419T055057
CREATED:20170610T102456Z
LAST-MODIFIED:20200114T010032Z
UID:10006248-1581879600-1581897600@sftangowith.us
SUMMARY:Milonga @ Alberto's w/ DJ Una Yi Lee
DESCRIPTION:MILONGA @ Alberto’s\, 736 W. Dana\, Mountain View\, CA \n7pm – Midnight   $10 \nDJ: UNA YI LEE
URL:https://sftangowith.us/event/milonga-albertos-20-2020-02-16/
LOCATION:Alberto’s Night Club\, 736 W. Dana St.\, Mountain View\, CA\, United States
CATEGORIES:milonga
ATTACH;FMTTYPE=image/jpeg:https://sftangowith.us/wp-content/uploads/2017/06/Una-DJ-Albertos.jpg
GEO:37.3923683;-122.0789214
X-APPLE-STRUCTURED-LOCATION;VALUE=URI;X-ADDRESS=Alberto’s Night Club 736 W. Dana St. Mountain View CA United States;X-APPLE-RADIUS=500;X-TITLE=736 W. Dana St.:geo:-122.0789214,37.3923683
END:VEVENT
BEGIN:VEVENT
DTSTART;TZID=America/Los_Angeles:20200209T190000
DTEND;TZID=America/Los_Angeles:20200210T000000
DTSTAMP:20260419T055057
CREATED:20170610T102456Z
LAST-MODIFIED:20200114T005832Z
UID:10006244-1581274800-1581292800@sftangowith.us
SUMMARY:Milonga @ Alberto's w/ DJ Gokhan Oner
DESCRIPTION:MILONGA @ Alberto’s\, 736 W. Dana\, Mountain View\, CA \n7pm – Midnight   $10 \nDJ:  Gokhan Oner
URL:https://sftangowith.us/event/milonga-albertos-20-2020-02-09/
LOCATION:Alberto’s Night Club\, 736 W. Dana St.\, Mountain View\, CA\, United States
CATEGORIES:milonga
ATTACH;FMTTYPE=image/jpeg:https://sftangowith.us/wp-content/uploads/2017/06/30261717_10156102899778820_6393115290326007808_o-e1634502099482.jpg
GEO:37.3923683;-122.0789214
X-APPLE-STRUCTURED-LOCATION;VALUE=URI;X-ADDRESS=Alberto’s Night Club 736 W. Dana St. Mountain View CA United States;X-APPLE-RADIUS=500;X-TITLE=736 W. Dana St.:geo:-122.0789214,37.3923683
END:VEVENT
BEGIN:VEVENT
DTSTART;TZID=America/Los_Angeles:20200202T190000
DTEND;TZID=America/Los_Angeles:20200203T000000
DTSTAMP:20260419T055057
CREATED:20170610T102456Z
LAST-MODIFIED:20200202T194715Z
UID:10006236-1580670000-1580688000@sftangowith.us
SUMMARY:Milonga @ Alberto's w/ Mariano Barreiro Trio (Live Music)
DESCRIPTION:MILONGA @ Alberto’s\, 736 W. Dana\, Mountain View\, CA \n7pm – Midnight   $15 \nLive music sets after 8.30pm \nDJ: Anna Hardy (Poland)
URL:https://sftangowith.us/event/milonga-albertos-20-2020-02-02/
LOCATION:Alberto’s Night Club\, 736 W. Dana St.\, Mountain View\, CA\, United States
CATEGORIES:milonga,music (live)
ATTACH;FMTTYPE=image/jpeg:https://sftangowith.us/wp-content/uploads/2019/12/Mariano-Barreiro-Trio.jpg
GEO:37.3923683;-122.0789214
X-APPLE-STRUCTURED-LOCATION;VALUE=URI;X-ADDRESS=Alberto’s Night Club 736 W. Dana St. Mountain View CA United States;X-APPLE-RADIUS=500;X-TITLE=736 W. Dana St.:geo:-122.0789214,37.3923683
END:VEVENT
BEGIN:VEVENT
DTSTART;TZID=America/Los_Angeles:20200126T190000
DTEND;TZID=America/Los_Angeles:20200127T000000
DTSTAMP:20260419T055057
CREATED:20170610T102456Z
LAST-MODIFIED:20200114T002842Z
UID:10006232-1580065200-1580083200@sftangowith.us
SUMMARY:Milonga @ Alberto's w/ DJ Ashvin
DESCRIPTION:MILONGA @ Alberto’s\, 736 W. Dana\, Mountain View\, CA w/ DJ Ashvin \n7pm – Midnight   $10 \nDJ: Ashvin
URL:https://sftangowith.us/event/milonga-albertos-20-2020-01-26/
LOCATION:Alberto’s Night Club\, 736 W. Dana St.\, Mountain View\, CA\, United States
CATEGORIES:milonga
ATTACH;FMTTYPE=image/jpeg:https://sftangowith.us/wp-content/uploads/2017/06/Albertos.jpg
GEO:37.3923683;-122.0789214
X-APPLE-STRUCTURED-LOCATION;VALUE=URI;X-ADDRESS=Alberto’s Night Club 736 W. Dana St. Mountain View CA United States;X-APPLE-RADIUS=500;X-TITLE=736 W. Dana St.:geo:-122.0789214,37.3923683
END:VEVENT
BEGIN:VEVENT
DTSTART;TZID=America/Los_Angeles:20200119T190000
DTEND;TZID=America/Los_Angeles:20200120T000000
DTSTAMP:20260419T055057
CREATED:20170610T102456Z
LAST-MODIFIED:20191217T001520Z
UID:10006226-1579460400-1579478400@sftangowith.us
SUMMARY:Milonga @ Alberto's w/ DJ Felipe Martinez
DESCRIPTION:MILONGA @ Alberto’s\, 736 W. Dana\, Mountain View\, CA \n7pm – Midnight   $10 \nDJ: Felipe Martinez
URL:https://sftangowith.us/event/milonga-albertos-20-2020-01-19/
LOCATION:Alberto’s Night Club\, 736 W. Dana St.\, Mountain View\, CA\, United States
CATEGORIES:milonga
ATTACH;FMTTYPE=image/jpeg:https://sftangowith.us/wp-content/uploads/2017/06/Felipe-Martinez-DJ.jpg
GEO:37.3923683;-122.0789214
X-APPLE-STRUCTURED-LOCATION;VALUE=URI;X-ADDRESS=Alberto’s Night Club 736 W. Dana St. Mountain View CA United States;X-APPLE-RADIUS=500;X-TITLE=736 W. Dana St.:geo:-122.0789214,37.3923683
END:VEVENT
BEGIN:VEVENT
DTSTART;TZID=America/Los_Angeles:20200112T190000
DTEND;TZID=America/Los_Angeles:20200113T000000
DTSTAMP:20260419T055057
CREATED:20170610T102456Z
LAST-MODIFIED:20191217T001450Z
UID:10006223-1578855600-1578873600@sftangowith.us
SUMMARY:Milonga @ Alberto's w/ DJ Ayano Yoneda
DESCRIPTION:MILONGA @ Alberto’s\, 736 W. Dana\, Mountain View\, CA \n7pm – Midnight   $10 \nDJ: Ayano Yoneda
URL:https://sftangowith.us/event/milonga-albertos-20-2020-01-12/
LOCATION:Alberto’s Night Club\, 736 W. Dana St.\, Mountain View\, CA\, United States
CATEGORIES:milonga
ATTACH;FMTTYPE=image/jpeg:https://sftangowith.us/wp-content/uploads/2018/07/Ayano-Xiaomin-Leading.jpg
GEO:37.3923683;-122.0789214
X-APPLE-STRUCTURED-LOCATION;VALUE=URI;X-ADDRESS=Alberto’s Night Club 736 W. Dana St. Mountain View CA United States;X-APPLE-RADIUS=500;X-TITLE=736 W. Dana St.:geo:-122.0789214,37.3923683
END:VEVENT
BEGIN:VEVENT
DTSTART;TZID=America/Los_Angeles:20200105T190000
DTEND;TZID=America/Los_Angeles:20200106T000000
DTSTAMP:20260419T055057
CREATED:20170610T102456Z
LAST-MODIFIED:20200109T185617Z
UID:10006218-1578250800-1578268800@sftangowith.us
SUMMARY:Milonga @ Alberto's w/ DJ Caleb Welton
DESCRIPTION:MILONGA @ Alberto’s\, 736 W. Dana\, Mountain View\, CA \n7pm – Midnight   $10 \nDJ: Caleb Welton
URL:https://sftangowith.us/event/milonga-albertos-2020-01-05/
LOCATION:Alberto’s Night Club\, 736 W. Dana St.\, Mountain View\, CA\, United States
CATEGORIES:milonga
ATTACH;FMTTYPE=image/jpeg:https://sftangowith.us/wp-content/uploads/2017/06/Caleb_2016-e1555155359955.jpg
GEO:37.3923683;-122.0789214
X-APPLE-STRUCTURED-LOCATION;VALUE=URI;X-ADDRESS=Alberto’s Night Club 736 W. Dana St. Mountain View CA United States;X-APPLE-RADIUS=500;X-TITLE=736 W. Dana St.:geo:-122.0789214,37.3923683
END:VEVENT
END:VCALENDAR