BEGIN:VCALENDAR
VERSION:2.0
PRODID:-//SF Tango With.Us - ECPv6.6.2//NONSGML v1.0//EN
CALSCALE:GREGORIAN
METHOD:PUBLISH
X-ORIGINAL-URL:https://sftangowith.us
X-WR-CALDESC:Events for SF Tango With.Us
REFRESH-INTERVAL;VALUE=DURATION:PT1H
X-Robots-Tag:noindex
X-PUBLISHED-TTL:PT1H
BEGIN:VTIMEZONE
TZID:America/Los_Angeles
BEGIN:DAYLIGHT
TZOFFSETFROM:-0800
TZOFFSETTO:-0700
TZNAME:PDT
DTSTART:20210314T100000
END:DAYLIGHT
BEGIN:STANDARD
TZOFFSETFROM:-0700
TZOFFSETTO:-0800
TZNAME:PST
DTSTART:20211107T090000
END:STANDARD
BEGIN:DAYLIGHT
TZOFFSETFROM:-0800
TZOFFSETTO:-0700
TZNAME:PDT
DTSTART:20220313T100000
END:DAYLIGHT
BEGIN:STANDARD
TZOFFSETFROM:-0700
TZOFFSETTO:-0800
TZNAME:PST
DTSTART:20221106T090000
END:STANDARD
END:VTIMEZONE
BEGIN:VEVENT
DTSTART;TZID=America/Los_Angeles:20220503T183000
DTEND;TZID=America/Los_Angeles:20220503T213000
DTSTAMP:20260422T031042
CREATED:20220502T035002Z
LAST-MODIFIED:20220502T035021Z
UID:10007588-1651602600-1651613400@sftangowith.us
SUMMARY:Milonga Fiat Lux w/ DJ Jonas
DESCRIPTION:Welcome to our last milonga of the semester! \nClass from 6:30-7:30 taught by D’Artagnan\nMilonga with DJ Jonas from 7:30-9:30. \n$0-5 sliding scale for students and $15 for community members regardless of whether you attend the class. \nIf you volunteer to help with the event you get in for free. See you there!
URL:https://sftangowith.us/event/milonga-fiat-lux-w-dj-jonas/
LOCATION:Berkeley Hillel\, 2736 Bancroft Way\, Berkeley\, CA
CATEGORIES:class,milonga
ATTACH;FMTTYPE=image/jpeg:https://sftangowith.us/wp-content/uploads/2017/06/JonasAquino.jpg
GEO:37.8691952;-122.2529371
X-APPLE-STRUCTURED-LOCATION;VALUE=URI;X-ADDRESS=Berkeley Hillel 2736 Bancroft Way Berkeley CA;X-APPLE-RADIUS=500;X-TITLE=2736 Bancroft Way:geo:-122.2529371,37.8691952
END:VEVENT
BEGIN:VEVENT
DTSTART;TZID=America/Los_Angeles:20211109T200000
DTEND;TZID=America/Los_Angeles:20211109T220000
DTSTAMP:20260422T031042
CREATED:20211102T220138Z
LAST-MODIFIED:20211102T220138Z
UID:10006661-1636488000-1636495200@sftangowith.us
SUMMARY:Milonga Fiat Lux
DESCRIPTION:Finally\, finally\, finally! After a long Covid hiatus\, our club is back with Fiat Lux. The Berkeley Hillel has generously provided a lovely space.* We will announce the DJ shortly. Before the class (7-8pm) is a lesson for absolute beginners taught by Hanna Kim. You are welcome to bring snacks to share. Mask-wearing and vaccination are required. \nPrices:\nUC Berkeley students: FREE\nGeneral class + milonga: $20\nGeneral milonga: $15 \nPlease contact the club at ucbtango@nullgmail.com if you would like to help organize and get free admission! \nInfo for beginners: The milonga is open to all but may be challenging for beginners. Feel free to watch or join; milonga etiquette will be explained beforehand. Bring shoes (or socks) that allow you to pivot; dress up if desired. Contact Sarah Bhaskaran or ucbtango@nullgmail.com for more info. \n*The ATCB is not affiliated with Berkeley Hillel. Sign-in at Hillel will be required for contact-tracing purposes. We recognize that some may feel uncomfortable with the venue for a variety of reasons and are sorry that we have not found a university-affiliated location for the event; however\, Hillel is open to everyone and familiar to several of the club members.
URL:https://sftangowith.us/event/milonga-fiat-lux/
LOCATION:Berkeley Hillel\, 2736 Bancroft Way\, Berkeley\, CA
CATEGORIES:class,milonga
ATTACH;FMTTYPE=image/jpeg:https://sftangowith.us/wp-content/uploads/2018/01/milonga-fiat-lux-group.jpg
GEO:37.8691952;-122.2529371
X-APPLE-STRUCTURED-LOCATION;VALUE=URI;X-ADDRESS=Berkeley Hillel 2736 Bancroft Way Berkeley CA;X-APPLE-RADIUS=500;X-TITLE=2736 Bancroft Way:geo:-122.2529371,37.8691952
END:VEVENT
END:VCALENDAR