BEGIN:VCALENDAR
VERSION:2.0
PRODID:-//SF Tango With.Us - ECPv6.6.2//NONSGML v1.0//EN
CALSCALE:GREGORIAN
METHOD:PUBLISH
X-ORIGINAL-URL:https://sftangowith.us
X-WR-CALDESC:Events for SF Tango With.Us
REFRESH-INTERVAL;VALUE=DURATION:PT1H
X-Robots-Tag:noindex
X-PUBLISHED-TTL:PT1H
BEGIN:VTIMEZONE
TZID:America/Los_Angeles
BEGIN:DAYLIGHT
TZOFFSETFROM:-0800
TZOFFSETTO:-0700
TZNAME:PDT
DTSTART:20210314T100000
END:DAYLIGHT
BEGIN:STANDARD
TZOFFSETFROM:-0700
TZOFFSETTO:-0800
TZNAME:PST
DTSTART:20211107T090000
END:STANDARD
BEGIN:DAYLIGHT
TZOFFSETFROM:-0800
TZOFFSETTO:-0700
TZNAME:PDT
DTSTART:20220313T100000
END:DAYLIGHT
BEGIN:STANDARD
TZOFFSETFROM:-0700
TZOFFSETTO:-0800
TZNAME:PST
DTSTART:20221106T090000
END:STANDARD
BEGIN:DAYLIGHT
TZOFFSETFROM:-0800
TZOFFSETTO:-0700
TZNAME:PDT
DTSTART:20230312T100000
END:DAYLIGHT
BEGIN:STANDARD
TZOFFSETFROM:-0700
TZOFFSETTO:-0800
TZNAME:PST
DTSTART:20231105T090000
END:STANDARD
BEGIN:DAYLIGHT
TZOFFSETFROM:-0800
TZOFFSETTO:-0700
TZNAME:PDT
DTSTART:20240310T100000
END:DAYLIGHT
BEGIN:STANDARD
TZOFFSETFROM:-0700
TZOFFSETTO:-0800
TZNAME:PST
DTSTART:20241103T090000
END:STANDARD
BEGIN:DAYLIGHT
TZOFFSETFROM:-0800
TZOFFSETTO:-0700
TZNAME:PDT
DTSTART:20250309T100000
END:DAYLIGHT
BEGIN:STANDARD
TZOFFSETFROM:-0700
TZOFFSETTO:-0800
TZNAME:PST
DTSTART:20251102T090000
END:STANDARD
BEGIN:DAYLIGHT
TZOFFSETFROM:-0800
TZOFFSETTO:-0700
TZNAME:PDT
DTSTART:20260308T100000
END:DAYLIGHT
BEGIN:STANDARD
TZOFFSETFROM:-0700
TZOFFSETTO:-0800
TZNAME:PST
DTSTART:20261101T090000
END:STANDARD
END:VTIMEZONE
BEGIN:VEVENT
DTSTART;TZID=America/Los_Angeles:20260404T200000
DTEND;TZID=America/Los_Angeles:20260405T010000
DTSTAMP:20260419T125012
CREATED:20260403T012001Z
LAST-MODIFIED:20260403T012110Z
UID:10016419-1775332800-1775350800@sftangowith.us
SUMMARY:La Reina Milonga w/ Cuarteto Ramilonga (Live Music\, DJ Kostas)
DESCRIPTION:LA REINA Special Milonga event with CUARTETO RAMILONGA + Guest Singer ADRIAN DURSO + SOCIAL DANCING with DJ KOSTAS and Workshop by ANDREA & ADRIAN! \nWONDERFUL 2\,400 sqft. GRAND BALLROOM with great smooth wood floor! + Spacious reception drink & food area + great sitting!\nBOOK YOUR TABLE by Fri April 3 (free service!):\ntangoandreamonti@nullgmail.com \n8:00 – 9.00 pm Tango workshop by ANDREA MONTI & ADRIAN DURSO\n9:00pm – 1:00am MILONGA with DJ KOSTAS from SF \n10.30pm CUARTETO RAMILONGA 1st set\n11.05pm RAFFLES: bottle of champagne +bottle of Malbec wine!\n11.30 pm CUARTETO RAMILONGA 2nd set \nCOMPLIMENTARY: delicious\, sweet/salty snacks\, cake\, iced fruit water\, soft drinks and wine.\nPARKING: parking lot + huge additional parking at the Mountain View Public Library + on the surrounding streets. \nCOST (Cash Preferred; $5 extra per person for live band tonight):\n$35 – Workshop & Milonga\n$30 – Milonga Only \n 
URL:https://sftangowith.us/event/la-reina-milonga-w-cuarteto-ramilonga-live-music-dj-kostas/
LOCATION:Masonic Lodge\, 9 Altarinda Ave\, Orinda\, CA\, 94704\, United States
CATEGORIES:milonga,music (live),Recommended for Visitors
ATTACH;FMTTYPE=image/jpeg:https://sftangowith.us/wp-content/uploads/2025/04/DJ-Kostas-3.jpeg
GEO:37.8827445;-122.1848043
X-APPLE-STRUCTURED-LOCATION;VALUE=URI;X-ADDRESS=Masonic Lodge 9 Altarinda Ave Orinda CA 94704 United States;X-APPLE-RADIUS=500;X-TITLE=9 Altarinda Ave:geo:-122.1848043,37.8827445
END:VEVENT
BEGIN:VEVENT
DTSTART;TZID=America/Los_Angeles:20220501T133000
DTEND;TZID=America/Los_Angeles:20220501T173000
DTSTAMP:20260419T125012
CREATED:20220412T231813Z
LAST-MODIFIED:20220425T220911Z
UID:10006932-1651411800-1651426200@sftangowith.us
SUMMARY:Milonga de Orinda LIVE: Charles\, Scott\, Sascha
DESCRIPTION:1:30 – 2:30   workshop $10\n2:30 – 5:30   milonga live music $30\nReserved seat $35 \n$25 advance Venmo: Ernest Biera @ernest-biera\n$30 at the door\, Reserved seats $35 \nMasonic Lodge\n9 Altarinda Rd\, Orinda CA\nOrinda\, CA \nThe “May 1st! Trio Charles Gorczynski\, Scott O’Day\, Sascha Jacobsen”\n1:30 Tango Fun Fundamentals workshop\nMilonga begins at 2:30 with live music from on-tour musicians.\nSpecial reserved table for sponsors with refreshments available.\nWe are also looking for local sponsors to support musicians.
URL:https://sftangowith.us/event/milonga-de-orinda-live-charles-scott-sascha/
LOCATION:Masonic Lodge\, 9 Altarinda Ave\, Orinda\, CA\, 94704\, United States
CATEGORIES:class,milonga,music (live)
GEO:37.8827445;-122.1848043
X-APPLE-STRUCTURED-LOCATION;VALUE=URI;X-ADDRESS=Masonic Lodge 9 Altarinda Ave Orinda CA 94704 United States;X-APPLE-RADIUS=500;X-TITLE=9 Altarinda Ave:geo:-122.1848043,37.8827445
END:VEVENT
BEGIN:VEVENT
DTSTART;TZID=America/Los_Angeles:20211003T020000
DTEND;TZID=America/Los_Angeles:20211003T173000
DTSTAMP:20260419T125012
CREATED:20211001T211455Z
LAST-MODIFIED:20211001T211803Z
UID:10007388-1633226400-1633282200@sftangowith.us
SUMMARY:Maxi and Paloma teach at Milonga de Orinda
DESCRIPTION:2-3:15 Master Workshop with Maxi & Paloma\nhttps://www.palomaymaximiliano.com/\nDon An DJ for Milonga\n4:15 – 4:30 Performance\n3:15 – 5:30 Milonga\nHost Ernie Biera price $35\npresale $30 ends Friday\nErniebieraadv@nullgmail.com\nPlease use Venmo friends\nOnsite free parking. Easy access from BART. Refreshments provided; please bring water bottles. Vaccination cards ( COVID) are required. Masks are required for vaccinated attendees at this time. Come Create Connect and Collaborate!
URL:https://sftangowith.us/event/maxi-and-paloma-teach-at-milonga-de-orinda/
LOCATION:Masonic Lodge\, 9 Altarinda Ave\, Orinda\, CA\, 94704\, United States
CATEGORIES:class,milonga
ATTACH;FMTTYPE=image/jpeg:https://sftangowith.us/wp-content/uploads/2021/10/maxipaloma.jpg
ORGANIZER;CN="Ernie Biera":MAILTO:erniebiera.adv@gmail.com
GEO:37.8827445;-122.1848043
X-APPLE-STRUCTURED-LOCATION;VALUE=URI;X-ADDRESS=Masonic Lodge 9 Altarinda Ave Orinda CA 94704 United States;X-APPLE-RADIUS=500;X-TITLE=9 Altarinda Ave:geo:-122.1848043,37.8827445
END:VEVENT
BEGIN:VEVENT
DTSTART;TZID=America/Los_Angeles:20210926T140000
DTEND;TZID=America/Los_Angeles:20210926T173000
DTSTAMP:20260419T125012
CREATED:20210916T234440Z
LAST-MODIFIED:20210917T060026Z
UID:10006577-1632664800-1632677400@sftangowith.us
SUMMARY:Milonga de Orinda w/ Hugo and Winnie (Live Music)
DESCRIPTION:Live Music with Hugo Satorre from Argentina on bandoneon and Winnie Cheung from Hong Kong on piano\nAlso featuring DJ Don An\nMusicality class with Hugo Satorre\nVaccination cards (Covid-19) required. Masks required.\nLovely venue\, excellent floor\, onsite parking. Easy access from BART. Refreshments provided; please bring water bottles.\n$25 at the door\n$20 pre-sale by Friday September 24th https://venmo.com/Ernest-Biera
URL:https://sftangowith.us/event/milonga-de-orinda-with-live-music-by-hugo-and-winnie/
LOCATION:Masonic Lodge\, 9 Altarinda Ave\, Orinda\, CA\, 94704\, United States
CATEGORIES:class,milonga,music (live)
ATTACH;FMTTYPE=image/jpeg:https://sftangowith.us/wp-content/uploads/2021/09/241817819_133743942313009_7205685071963320899_n.jpg
ORGANIZER;CN="Ernie Biera":MAILTO:erniebiera.adv@gmail.com
GEO:37.8827445;-122.1848043
X-APPLE-STRUCTURED-LOCATION;VALUE=URI;X-ADDRESS=Masonic Lodge 9 Altarinda Ave Orinda CA 94704 United States;X-APPLE-RADIUS=500;X-TITLE=9 Altarinda Ave:geo:-122.1848043,37.8827445
END:VEVENT
END:VCALENDAR