BEGIN:VCALENDAR
VERSION:2.0
PRODID:-//SF Tango With.Us - ECPv6.6.2//NONSGML v1.0//EN
CALSCALE:GREGORIAN
METHOD:PUBLISH
X-ORIGINAL-URL:https://sftangowith.us
X-WR-CALDESC:Events for SF Tango With.Us
REFRESH-INTERVAL;VALUE=DURATION:PT1H
X-Robots-Tag:noindex
X-PUBLISHED-TTL:PT1H
BEGIN:VTIMEZONE
TZID:America/Los_Angeles
BEGIN:DAYLIGHT
TZOFFSETFROM:-0800
TZOFFSETTO:-0700
TZNAME:PDT
DTSTART:20210314T100000
END:DAYLIGHT
BEGIN:STANDARD
TZOFFSETFROM:-0700
TZOFFSETTO:-0800
TZNAME:PST
DTSTART:20211107T090000
END:STANDARD
END:VTIMEZONE
BEGIN:VEVENT
DTSTART;TZID=America/Los_Angeles:20211010T143000
DTEND;TZID=America/Los_Angeles:20211010T180000
DTSTAMP:20260424T201234
CREATED:20211009T011548Z
LAST-MODIFIED:20211009T011548Z
UID:10007390-1633876200-1633888800@sftangowith.us
SUMMARY:Empanada Milonga w/ Tango Brumoso (Live Music)
DESCRIPTION:$25 at Door\n$20 pre-sale at www.OrquestaZ.com \nCelebrate with us the start of our 9th year of Empanada Milonga\, sponsored by the non-profit Orquesta Z\, held every 2nd Sunday of each month. \nThis month\, we will present the wonderful music of guest DJ Don An\, the organizer of the famed Dance Boulevard in San Jose.\nOur special musical guest this month is Tango Brumoso\, a fabulous quartet playing Golden Era Argentine tango. It’s their premiere performance at our milonga!! \nDJ Don An between live music sets \nRefreshments and wine served in our outdoor patio.\nDancing on a delicious 1920’s hardwood floor in a beautiful wooden building.\nWe invented the Sunday afternoon milonga\, and this is the best place to enjoy it in the Bay Area. \nCovid protocols: Proof of vaccination and masks required. \nFor more info to order advanced discount tickets go to: www.OrquestaZ.com
URL:https://sftangowith.us/event/empanada-milonga-w-tango-brumoso-live-music/
LOCATION:St. Clement’s Fellowship Hall\, 2837 Claremont Blvd\, Berkeley\, CA
ATTACH;FMTTYPE=image/jpeg:https://sftangowith.us/wp-content/uploads/2021/08/Tango-Brumoso.jpg
GEO:37.859425;-122.2449602
X-APPLE-STRUCTURED-LOCATION;VALUE=URI;X-ADDRESS=St. Clement’s Fellowship Hall 2837 Claremont Blvd Berkeley CA;X-APPLE-RADIUS=500;X-TITLE=2837 Claremont Blvd:geo:-122.2449602,37.859425
END:VEVENT
END:VCALENDAR