BEGIN:VCALENDAR
VERSION:2.0
PRODID:-//SF Tango With.Us - ECPv6.6.2//NONSGML v1.0//EN
CALSCALE:GREGORIAN
METHOD:PUBLISH
X-WR-CALNAME:SF Tango With.Us
X-ORIGINAL-URL:https://sftangowith.us
X-WR-CALDESC:Events for SF Tango With.Us
REFRESH-INTERVAL;VALUE=DURATION:PT1H
X-Robots-Tag:noindex
X-PUBLISHED-TTL:PT1H
BEGIN:VTIMEZONE
TZID:America/Los_Angeles
BEGIN:DAYLIGHT
TZOFFSETFROM:-0800
TZOFFSETTO:-0700
TZNAME:PDT
DTSTART:20240310T100000
END:DAYLIGHT
BEGIN:STANDARD
TZOFFSETFROM:-0700
TZOFFSETTO:-0800
TZNAME:PST
DTSTART:20241103T090000
END:STANDARD
END:VTIMEZONE
BEGIN:VEVENT
DTSTART;TZID=America/Los_Angeles:20240817T150000
DTEND;TZID=America/Los_Angeles:20240817T180000
DTSTAMP:20260423T173930
CREATED:20240812T214838Z
LAST-MODIFIED:20240812T214838Z
UID:10013303-1723906800-1723917600@sftangowith.us
SUMMARY:Chillonga (Postponed)
DESCRIPTION:No Chillonga in August (venue conflicts)
URL:https://sftangowith.us/event/chillonga-an-afternoon-mixed-music-milonga-2/
LOCATION:Yama Kids Yoga\, 2631 Ashby Ave A\, Berkeley\, 94705\, United States
ORGANIZER;CN="Chi and Suzanne":MAILTO:chulinguy@gmail.com
END:VEVENT
BEGIN:VEVENT
DTSTART;TZID=America/Los_Angeles:20240720T150000
DTEND;TZID=America/Los_Angeles:20240720T180000
DTSTAMP:20260423T173930
CREATED:20240708T014640Z
LAST-MODIFIED:20240708T014640Z
UID:10013302-1721487600-1721498400@sftangowith.us
SUMMARY:Chillonga: an afternoon mixed-music milonga
DESCRIPTION:3PM – 6PM: social dancing & more \n$20\n$15 full-time student with a valid ID\n$5 discount after 5PM \nVenmo preferred \n[Our Commitment]\nWe are committed to foster a relaxing\, inclusive\, emotionally and physically safe environment\, in which everyone feels valued and respected. All are welcome to lead\, follow\, and socialize at Chillonga. \n[Agreements]\nTo help create a relaxing and connecting environment\, we invite you to:\n1. Be present and mindful\n– expressing authentically within the context of tango and socializing\n– connecting by dancing\, conversations\, playing games\, etc\n2. Respect the dancers\n– asking others to dance by cabeceo or verbally\n– enjoying the yes’s and respecting the no’s\n– practicing good personal hygiene\n3. Respect the shared space\n– sharing the dance floor mindfully\n– maintaining cleanliness of this shared space \n[Music Mix]\n– 1/3 Golden Age Tango\n– 1/3 Contemporary Tango\n– 1/3 Alternatives
URL:https://sftangowith.us/event/chillonga-an-afternoon-mixed-music-milonga/
LOCATION:Yama Kids Yoga\, 2631 Ashby Ave A\, Berkeley\, 94705\, United States
CATEGORIES:milonga
ATTACH;FMTTYPE=image/jpeg:https://sftangowith.us/wp-content/uploads/2024/07/Chillonga_july.jpg
ORGANIZER;CN="Chi and Suzanne":MAILTO:chulinguy@gmail.com
END:VEVENT
BEGIN:VEVENT
DTSTART;TZID=America/Los_Angeles:20240518T150000
DTEND;TZID=America/Los_Angeles:20240518T180000
DTSTAMP:20260423T173930
CREATED:20240507T224423Z
LAST-MODIFIED:20240509T032507Z
UID:10012652-1716044400-1716055200@sftangowith.us
SUMMARY:Chillonga Milonga
DESCRIPTION:  \n3PM – 6PM: social dancing & more \n$20\n$15 full-time student with a valid ID \nVenmo preferred \n[Our Commitment]\nWe are committed to foster a relaxing\, inclusive\, emotionally and physically safe environment\, in which everyone feels valued and respected. All are welcome to lead\, follow\, and socialize at Chillonga. \n[Agreements]\nTo help create a relaxing and connecting environment\, we invite you to:\n1. Be present and mindful\n– expressing authentically within the context of tango and socializing\n– connecting by dancing\, conversations\, playing games\, etc\n2. Respect the dancers\n– asking others to dance by cabeceo or verbally\n– enjoying the yes’s and respecting the no’s\n– practicing good personal hygiene\n3. Respect the shared space\n– sharing the dance floor mindfully\n– maintaining cleanliness of this shared space \n[Music Mix]\n– 1/3 Golden Age Tango\n– 1/3 Contemporary Tango\n– 1/3 Alternatives
URL:https://sftangowith.us/event/maychillonga/
LOCATION:Yama Kids Yoga\, 2631 Ashby Ave A\, Berkeley\, 94705\, United States
CATEGORIES:milonga
ATTACH;FMTTYPE=image/jpeg:https://sftangowith.us/wp-content/uploads/2024/05/chillonga_may.jpg
ORGANIZER;CN="Chi and Suzanne":MAILTO:chulinguy@gmail.com
END:VEVENT
BEGIN:VEVENT
DTSTART;TZID=America/Los_Angeles:20240420T143000
DTEND;TZID=America/Los_Angeles:20240420T180000
DTSTAMP:20260423T173930
CREATED:20240310T061415Z
LAST-MODIFIED:20240310T061415Z
UID:10012121-1713623400-1713636000@sftangowith.us
SUMMARY:Chillonga w/ DJ Chi
DESCRIPTION:The newest afternoon milonga in town! \n2:30PM – 3PM: warm-ups & tango games\n3PM – 6PM: social dancing & more \n$20\n$15 full-time student with a valid ID \nPreregister  (https://forms.gle/hJBUArGku5pS5Pxf6)\nVenmo preferred \n[Our Commitment]\nWe are committed to foster a relaxing\, inclusive\, emotionally and physically safe environment\, in which everyone feels valued and respected. All are welcome to lead\, follow\, and socialize at Chillonga.\n[Agreements]\nTo help create a relaxing and connecting environment\, we invite you to:\n1. Be present and mindful\n– expressing authentically within the context of tango and socializing\n– connecting by dancing\, conversations\, playing games\, etc\n2. Respect the dancers\n– asking others to dance by cabeceo or verbally\n– enjoying the yes’s and respecting the no’s\n– practicing good personal hygiene\n3. Respect the shared space\n– sharing the dance floor mindfully\n– maintaining cleanliness of this shared space \n[Music Mix]\n– 1/3 Golden Age Tango\n– 1/3 Contemporary Tango\n– 1/3 Alternatives
URL:https://sftangowith.us/event/chillonga-w-dj-chi/
LOCATION:Yama Kids Yoga\, 2631 Ashby Ave A\, Berkeley\, 94705\, United States
CATEGORIES:milonga
ATTACH;FMTTYPE=image/jpeg:https://sftangowith.us/wp-content/uploads/2024/03/Chillonga-April-2024.jpg
END:VEVENT
END:VCALENDAR